BEGIN:VCALENDAR
VERSION:2.0
PRODID:-//Hopewell Museum - ECPv6.15.17.1//NONSGML v1.0//EN
CALSCALE:GREGORIAN
METHOD:PUBLISH
X-WR-CALNAME:Hopewell Museum
X-ORIGINAL-URL:https://www.hopewellmuseum.org
X-WR-CALDESC:Events for Hopewell Museum
REFRESH-INTERVAL;VALUE=DURATION:PT1H
X-Robots-Tag:noindex
X-PUBLISHED-TTL:PT1H
BEGIN:VTIMEZONE
TZID:UTC
BEGIN:STANDARD
TZOFFSETFROM:+0000
TZOFFSETTO:+0000
TZNAME:UTC
DTSTART:20180101T000000
END:STANDARD
END:VTIMEZONE
BEGIN:VEVENT
DTSTART;TZID=UTC:20190727T090000
DTEND;TZID=UTC:20190727T170000
DTSTAMP:20260425T123219
CREATED:20190120T000212Z
LAST-MODIFIED:20190120T000212Z
UID:1488-1564218000-1564246800@www.hopewellmuseum.org
SUMMARY:Field Trip to Shaker Village of Pleasant Hill
DESCRIPTION:Members & volunteers are invited to join your Museum friends for a day trip to Shaker Village. Space is limited & pre-registration required. $20 Members/$25 Non-members.
URL:https://www.hopewellmuseum.org/event/field-trip-to-shaker-village-of-pleasant-hill/
LOCATION:KY
END:VEVENT
END:VCALENDAR