BEGIN:VCALENDAR
VERSION:2.0
PRODID:-//Hopewell Museum - ECPv6.15.17.1//NONSGML v1.0//EN
CALSCALE:GREGORIAN
METHOD:PUBLISH
X-WR-CALNAME:Hopewell Museum
X-ORIGINAL-URL:https://www.hopewellmuseum.org
X-WR-CALDESC:Events for Hopewell Museum
REFRESH-INTERVAL;VALUE=DURATION:PT1H
X-Robots-Tag:noindex
X-PUBLISHED-TTL:PT1H
BEGIN:VTIMEZONE
TZID:UTC
BEGIN:STANDARD
TZOFFSETFROM:+0000
TZOFFSETTO:+0000
TZNAME:UTC
DTSTART:20180101T000000
END:STANDARD
END:VTIMEZONE
BEGIN:VEVENT
DTSTART;TZID=UTC:20190913T170000
DTEND;TZID=UTC:20190913T210000
DTSTAMP:20260425T093143
CREATED:20190120T000533Z
LAST-MODIFIED:20190120T000533Z
UID:1494-1568394000-1568408400@www.hopewellmuseum.org
SUMMARY:Paris ARTWALK
DESCRIPTION:A look at regional artists’ works throughout downtown Paris & at the Hopewell Museum. Featured artist will be Dara McAllister Hobson. Light refreshments. Free & open to the public.
URL:https://www.hopewellmuseum.org/event/paris-artwalk-6/
LOCATION:Hopewell Museum
END:VEVENT
END:VCALENDAR