BEGIN:VCALENDAR
VERSION:2.0
PRODID:-//Hopewell Museum - ECPv6.15.17.1//NONSGML v1.0//EN
CALSCALE:GREGORIAN
METHOD:PUBLISH
X-WR-CALNAME:Hopewell Museum
X-ORIGINAL-URL:https://www.hopewellmuseum.org
X-WR-CALDESC:Events for Hopewell Museum
REFRESH-INTERVAL;VALUE=DURATION:PT1H
X-Robots-Tag:noindex
X-PUBLISHED-TTL:PT1H
BEGIN:VTIMEZONE
TZID:UTC
BEGIN:STANDARD
TZOFFSETFROM:+0000
TZOFFSETTO:+0000
TZNAME:UTC
DTSTART:20180101T000000
END:STANDARD
END:VTIMEZONE
BEGIN:VEVENT
DTSTART;TZID=UTC:20190915T140000
DTEND;TZID=UTC:20190915T160000
DTSTAMP:20260425T093205
CREATED:20190120T000658Z
LAST-MODIFIED:20190815T213742Z
UID:1496-1568556000-1568563200@www.hopewellmuseum.org
SUMMARY:Fall Open House at Fairfield
DESCRIPTION:Tour this home that sits at the site where Gov. Garrard settled\, the site of  Martin’s Station\, & the Alanant-o-Wamiowee Buffalo Trace. This modern construction uses elements from regional historic homes & has a fine collection of Kentucky antiques and art. Pick up self-driving tour map at Fairfield. \n$10 Members/$15 Non-members\, no reservations required\, pay on-site the day of the tour. Proceeds support the programs of HPBC/Hopewell Museum.  \nLight refreshments provided. $10 Members/$15 Non-members. \nLocation: 500 Cynthiana Road\, Paris\, KY
URL:https://www.hopewellmuseum.org/event/fall-open-house-at-fairfield/
LOCATION:KY
END:VEVENT
END:VCALENDAR