BEGIN:VCALENDAR
VERSION:2.0
PRODID:-//Hopewell Museum - ECPv6.15.17.1//NONSGML v1.0//EN
CALSCALE:GREGORIAN
METHOD:PUBLISH
X-WR-CALNAME:Hopewell Museum
X-ORIGINAL-URL:https://www.hopewellmuseum.org
X-WR-CALDESC:Events for Hopewell Museum
REFRESH-INTERVAL;VALUE=DURATION:PT1H
X-Robots-Tag:noindex
X-PUBLISHED-TTL:PT1H
BEGIN:VTIMEZONE
TZID:UTC
BEGIN:STANDARD
TZOFFSETFROM:+0000
TZOFFSETTO:+0000
TZNAME:UTC
DTSTART:20180101T000000
END:STANDARD
END:VTIMEZONE
BEGIN:VEVENT
DTSTART;TZID=UTC:20191020T140000
DTEND;TZID=UTC:20191020T160000
DTSTAMP:20260425T075946
CREATED:20190120T000852Z
LAST-MODIFIED:20190120T000852Z
UID:1498-1571580000-1571587200@www.hopewellmuseum.org
SUMMARY:Ruddles Mills Cemetery Walking Tour
DESCRIPTION:Insights provided by local historians. Pre-registration required. $10/person\, students under 15 free. Proceeds benefit HPBC/HM and Ruddles Mills Cemetery.
URL:https://www.hopewellmuseum.org/event/ruddles-mills-cemetery-walking-tour/
LOCATION:Ruddles Mills Cemetery
END:VEVENT
END:VCALENDAR