BEGIN:VCALENDAR
VERSION:2.0
PRODID:-//Hopewell Museum - ECPv6.15.17.1//NONSGML v1.0//EN
CALSCALE:GREGORIAN
METHOD:PUBLISH
X-WR-CALNAME:Hopewell Museum
X-ORIGINAL-URL:https://www.hopewellmuseum.org
X-WR-CALDESC:Events for Hopewell Museum
REFRESH-INTERVAL;VALUE=DURATION:PT1H
X-Robots-Tag:noindex
X-PUBLISHED-TTL:PT1H
BEGIN:VTIMEZONE
TZID:UTC
BEGIN:STANDARD
TZOFFSETFROM:+0000
TZOFFSETTO:+0000
TZNAME:UTC
DTSTART:20190101T000000
END:STANDARD
END:VTIMEZONE
BEGIN:VEVENT
DTSTART;TZID=UTC:20200509T100000
DTEND;TZID=UTC:20200509T110000
DTSTAMP:20260424T213509
CREATED:20200204T223906Z
LAST-MODIFIED:20200204T223906Z
UID:1967-1589018400-1589022000@www.hopewellmuseum.org
SUMMARY:Paris Story Fest Jam Session with Josh Goforth
DESCRIPTION:Bring your own instrument to play and sing along with storyteller Josh Goforth. Children are welcome to attend! This program is part of the 4th Annual Paris Story Fest. Visit www.parisstoryfest.com for a complete schedule of events. Free & open to the public.
URL:https://www.hopewellmuseum.org/event/paris-story-fest-jam-session-with-josh-goforth/
LOCATION:KY
END:VEVENT
END:VCALENDAR