BEGIN:VCALENDAR
VERSION:2.0
PRODID:-//Hopewell Museum - ECPv6.15.17.1//NONSGML v1.0//EN
CALSCALE:GREGORIAN
METHOD:PUBLISH
X-ORIGINAL-URL:https://www.hopewellmuseum.org
X-WR-CALDESC:Events for Hopewell Museum
REFRESH-INTERVAL;VALUE=DURATION:PT1H
X-Robots-Tag:noindex
X-PUBLISHED-TTL:PT1H
BEGIN:VTIMEZONE
TZID:UTC
BEGIN:STANDARD
TZOFFSETFROM:+0000
TZOFFSETTO:+0000
TZNAME:UTC
DTSTART:20190101T000000
END:STANDARD
END:VTIMEZONE
BEGIN:VEVENT
DTSTART;TZID=UTC:20200517T140000
DTEND;TZID=UTC:20200517T160000
DTSTAMP:20260424T213508
CREATED:20200204T224020Z
LAST-MODIFIED:20200204T224020Z
UID:1969-1589724000-1589731200@www.hopewellmuseum.org
SUMMARY:Hopewell Museum’s 25th Birthday Party
DESCRIPTION:Help us celebrate the 25th year of the Museum with a little birthday celebration and cake! Guests are invited to bring their stories\, photos or other mementos from their years at the Hopewell to share. Free & open to the public.
URL:https://www.hopewellmuseum.org/event/hopewell-museums-25th-birthday-party/
LOCATION:KY
END:VEVENT
END:VCALENDAR