BEGIN:VCALENDAR
VERSION:2.0
PRODID:-//Hopewell Museum - ECPv6.15.17.1//NONSGML v1.0//EN
CALSCALE:GREGORIAN
METHOD:PUBLISH
X-WR-CALNAME:Hopewell Museum
X-ORIGINAL-URL:https://www.hopewellmuseum.org
X-WR-CALDESC:Events for Hopewell Museum
REFRESH-INTERVAL;VALUE=DURATION:PT1H
X-Robots-Tag:noindex
X-PUBLISHED-TTL:PT1H
BEGIN:VTIMEZONE
TZID:UTC
BEGIN:STANDARD
TZOFFSETFROM:+0000
TZOFFSETTO:+0000
TZNAME:UTC
DTSTART:20190101T000000
END:STANDARD
END:VTIMEZONE
BEGIN:VEVENT
DTSTART;TZID=UTC:20200814T140000
DTEND;TZID=UTC:20200814T160000
DTSTAMP:20260424T172553
CREATED:20200204T222142Z
LAST-MODIFIED:20200204T222921Z
UID:1950-1597413600-1597420800@www.hopewellmuseum.org
SUMMARY:Family Fun Series: Welcome back to school ice-cream & popcorn at the Library
DESCRIPTION:Hands-on art & history activities. Activities subject to change. Pre-registration requested\, space is limited. Children must be accompanied by an adult. All activities are 2-4 PM unless otherwise noted. FREE & Open to the public. Sponsored by Kentucky Bank.
URL:https://www.hopewellmuseum.org/event/family-fun-series-welcome-back-to-school-ice-cream-popcorn-at-the-library/
LOCATION:KY
END:VEVENT
END:VCALENDAR