BEGIN:VCALENDAR
VERSION:2.0
PRODID:-//Hopewell Museum - ECPv6.15.17.1//NONSGML v1.0//EN
CALSCALE:GREGORIAN
METHOD:PUBLISH
X-WR-CALNAME:Hopewell Museum
X-ORIGINAL-URL:https://www.hopewellmuseum.org
X-WR-CALDESC:Events for Hopewell Museum
REFRESH-INTERVAL;VALUE=DURATION:PT1H
X-Robots-Tag:noindex
X-PUBLISHED-TTL:PT1H
BEGIN:VTIMEZONE
TZID:UTC
BEGIN:STANDARD
TZOFFSETFROM:+0000
TZOFFSETTO:+0000
TZNAME:UTC
DTSTART:20190101T000000
END:STANDARD
END:VTIMEZONE
BEGIN:VEVENT
DTSTART;TZID=UTC:20200913T140000
DTEND;TZID=UTC:20200913T150000
DTSTAMP:20260424T155758
CREATED:20200205T013837Z
LAST-MODIFIED:20200205T013837Z
UID:1998-1600005600-1600009200@www.hopewellmuseum.org
SUMMARY:Kentucky Reads Book Discussion: Wendell Berry’s Hannah Coulter
DESCRIPTION:Please join us at the Paris-Bourbon County Public Library for a discussion of Wendell Berry’s book which supports the theme of our Spring 2021 Smithsonian Traveling Exhibit: Crossroads: Change in Rural America. The discussion will be led by Richard Taylor. This program is in partnership with the Paris-Bourbon County Library. Free & open to the public.
URL:https://www.hopewellmuseum.org/event/kentucky-reads-book-discussion-wendell-berrys-hannah-coulter/
LOCATION:Paris-Bourbon County Public Library\,  701 High St\, Paris\, KY\, 40361\, United States
END:VEVENT
END:VCALENDAR