BEGIN:VCALENDAR
VERSION:2.0
PRODID:-//Hopewell Museum - ECPv6.15.17.1//NONSGML v1.0//EN
CALSCALE:GREGORIAN
METHOD:PUBLISH
X-ORIGINAL-URL:https://www.hopewellmuseum.org
X-WR-CALDESC:Events for Hopewell Museum
REFRESH-INTERVAL;VALUE=DURATION:PT1H
X-Robots-Tag:noindex
X-PUBLISHED-TTL:PT1H
BEGIN:VTIMEZONE
TZID:UTC
BEGIN:STANDARD
TZOFFSETFROM:+0000
TZOFFSETTO:+0000
TZNAME:UTC
DTSTART:20190101T000000
END:STANDARD
END:VTIMEZONE
BEGIN:VEVENT
DTSTART;TZID=UTC:20201030T180000
DTEND;TZID=UTC:20201030T200000
DTSTAMP:20260424T130204
CREATED:20200204T222254Z
LAST-MODIFIED:20200204T223003Z
UID:1952-1604080800-1604088000@www.hopewellmuseum.org
SUMMARY:Family Fun Series: Night at the Museum
DESCRIPTION:Hands-on art & history activities. Activities subject to change. Pre-registration requested\, space is limited. Children must be accompanied by an adult. FREE & Open to the public. Sponsored by Kentucky Bank.
URL:https://www.hopewellmuseum.org/event/family-fun-series-night-at-the-museum/
LOCATION:KY
END:VEVENT
END:VCALENDAR