BEGIN:VCALENDAR
VERSION:2.0
PRODID:-//Hopewell Museum - ECPv6.15.17.1//NONSGML v1.0//EN
CALSCALE:GREGORIAN
METHOD:PUBLISH
X-ORIGINAL-URL:https://www.hopewellmuseum.org
X-WR-CALDESC:Events for Hopewell Museum
REFRESH-INTERVAL;VALUE=DURATION:PT1H
X-Robots-Tag:noindex
X-PUBLISHED-TTL:PT1H
BEGIN:VTIMEZONE
TZID:America/New_York
BEGIN:DAYLIGHT
TZOFFSETFROM:-0500
TZOFFSETTO:-0400
TZNAME:EDT
DTSTART:20220313T070000
END:DAYLIGHT
BEGIN:STANDARD
TZOFFSETFROM:-0400
TZOFFSETTO:-0500
TZNAME:EST
DTSTART:20221106T060000
END:STANDARD
BEGIN:DAYLIGHT
TZOFFSETFROM:-0500
TZOFFSETTO:-0400
TZNAME:EDT
DTSTART:20230312T070000
END:DAYLIGHT
BEGIN:STANDARD
TZOFFSETFROM:-0400
TZOFFSETTO:-0500
TZNAME:EST
DTSTART:20231105T060000
END:STANDARD
BEGIN:DAYLIGHT
TZOFFSETFROM:-0500
TZOFFSETTO:-0400
TZNAME:EDT
DTSTART:20240310T070000
END:DAYLIGHT
BEGIN:STANDARD
TZOFFSETFROM:-0400
TZOFFSETTO:-0500
TZNAME:EST
DTSTART:20241103T060000
END:STANDARD
END:VTIMEZONE
BEGIN:VEVENT
DTSTART;TZID=America/New_York:20230811T180000
DTEND;TZID=America/New_York:20230811T210000
DTSTAMP:20260422T102713
CREATED:20230503T152854Z
LAST-MODIFIED:20230805T145339Z
UID:4874-1691776800-1691787600@www.hopewellmuseum.org
SUMMARY:Mary Spears Van Meter Dinner
DESCRIPTION:Join us for our annual Founder’s Day dinner. We’ll have a social hour at 6 PM with dinner at 7 PM. Catered meal & drinks are included with your ticket purchase. Guest speakers will be The Megibben Family and Sannie Overly. We will be presenting our 2023 Mary Spears Van Meter Historic Preservation Award. RSVP Required by August 4th. Tickets are $35. RSVP Online Below. \nRSVP Online!\nEvent registration is closed.
URL:https://www.hopewellmuseum.org/event/mary-spears-van-meter-dinner-5/
LOCATION:Hopewell Museum
ATTACH;FMTTYPE=image/jpeg:https://www.hopewellmuseum.org/wp-content/uploads/2023/05/MSVM-Dinner-Postcard-Invitation-2023-1-scaled.jpg
END:VEVENT
END:VCALENDAR