BEGIN:VCALENDAR
VERSION:2.0
PRODID:-//Hopewell Museum - ECPv6.15.17.1//NONSGML v1.0//EN
CALSCALE:GREGORIAN
METHOD:PUBLISH
X-ORIGINAL-URL:https://www.hopewellmuseum.org
X-WR-CALDESC:Events for Hopewell Museum
REFRESH-INTERVAL;VALUE=DURATION:PT1H
X-Robots-Tag:noindex
X-PUBLISHED-TTL:PT1H
BEGIN:VTIMEZONE
TZID:America/New_York
BEGIN:DAYLIGHT
TZOFFSETFROM:-0500
TZOFFSETTO:-0400
TZNAME:EDT
DTSTART:20220313T070000
END:DAYLIGHT
BEGIN:STANDARD
TZOFFSETFROM:-0400
TZOFFSETTO:-0500
TZNAME:EST
DTSTART:20221106T060000
END:STANDARD
BEGIN:DAYLIGHT
TZOFFSETFROM:-0500
TZOFFSETTO:-0400
TZNAME:EDT
DTSTART:20230312T070000
END:DAYLIGHT
BEGIN:STANDARD
TZOFFSETFROM:-0400
TZOFFSETTO:-0500
TZNAME:EST
DTSTART:20231105T060000
END:STANDARD
BEGIN:DAYLIGHT
TZOFFSETFROM:-0500
TZOFFSETTO:-0400
TZNAME:EDT
DTSTART:20240310T070000
END:DAYLIGHT
BEGIN:STANDARD
TZOFFSETFROM:-0400
TZOFFSETTO:-0500
TZNAME:EST
DTSTART:20241103T060000
END:STANDARD
END:VTIMEZONE
BEGIN:VEVENT
DTSTART;TZID=America/New_York:20231025T173000
DTEND;TZID=America/New_York:20231025T190000
DTSTAMP:20260422T075545
CREATED:20231019T173104Z
LAST-MODIFIED:20231019T184929Z
UID:5099-1698255000-1698260400@www.hopewellmuseum.org
SUMMARY:Tony Leonard Photography Collection of Secretariat Exhibit Opening
DESCRIPTION:Join us on Wednesday\, October 25th\, from 5:30-7:00pm\, to view the spectacular collection of Secretariat photos taken by the late renowned equine photographer\, Tony Leonard. This exhibit is curated by our own Bobby Shiflet\, of Frames on Main\, from his extensive private collection of memorabilia. You won’t be disappointed! The Opening Reception includes refreshments and is free to the public.
URL:https://www.hopewellmuseum.org/event/tony-leonard-photography-collection-of-secretariat-exhibit-opening/
LOCATION:Hopewell Museum
END:VEVENT
END:VCALENDAR