BEGIN:VCALENDAR
VERSION:2.0
PRODID:-//Hopewell Museum - ECPv6.15.17.1//NONSGML v1.0//EN
CALSCALE:GREGORIAN
METHOD:PUBLISH
X-WR-CALNAME:Hopewell Museum
X-ORIGINAL-URL:https://www.hopewellmuseum.org
X-WR-CALDESC:Events for Hopewell Museum
REFRESH-INTERVAL;VALUE=DURATION:PT1H
X-Robots-Tag:noindex
X-PUBLISHED-TTL:PT1H
BEGIN:VTIMEZONE
TZID:America/New_York
BEGIN:DAYLIGHT
TZOFFSETFROM:-0500
TZOFFSETTO:-0400
TZNAME:EDT
DTSTART:20220313T070000
END:DAYLIGHT
BEGIN:STANDARD
TZOFFSETFROM:-0400
TZOFFSETTO:-0500
TZNAME:EST
DTSTART:20221106T060000
END:STANDARD
BEGIN:DAYLIGHT
TZOFFSETFROM:-0500
TZOFFSETTO:-0400
TZNAME:EDT
DTSTART:20230312T070000
END:DAYLIGHT
BEGIN:STANDARD
TZOFFSETFROM:-0400
TZOFFSETTO:-0500
TZNAME:EST
DTSTART:20231105T060000
END:STANDARD
BEGIN:DAYLIGHT
TZOFFSETFROM:-0500
TZOFFSETTO:-0400
TZNAME:EDT
DTSTART:20240310T070000
END:DAYLIGHT
BEGIN:STANDARD
TZOFFSETFROM:-0400
TZOFFSETTO:-0500
TZNAME:EST
DTSTART:20241103T060000
END:STANDARD
END:VTIMEZONE
BEGIN:VEVENT
DTSTART;TZID=America/New_York:20231209T170000
DTEND;TZID=America/New_York:20231209T190000
DTSTAMP:20260422T045209
CREATED:20230503T153620Z
LAST-MODIFIED:20231209T182555Z
UID:4886-1702141200-1702148400@www.hopewellmuseum.org
SUMMARY:Christmas Cocktail Party
DESCRIPTION:Put on your Christmas best and enjoy a fun evening with friends\, surrounded by the collection of photos by Tony Leonard of Secretariat. We will have holiday music\, wine\, cocktails\, and hors d’oeuvres. Festive Attire. Puchase tickets online\, over the phone with a credit card\, or in person before December 7th. Tickets are $35 for Members\, $40 for Non–members\, and $30 for Under 40. All proceeds benefit HPBC/Hopewell Museum’s education programs. \nRSVP Online\nOnline RSVP is closed.
URL:https://www.hopewellmuseum.org/event/christmas-cocktail-party-3/
LOCATION:Hopewell Museum
END:VEVENT
END:VCALENDAR