BEGIN:VCALENDAR
VERSION:2.0
PRODID:-//Hopewell Museum - ECPv6.15.17.1//NONSGML v1.0//EN
CALSCALE:GREGORIAN
METHOD:PUBLISH
X-WR-CALNAME:Hopewell Museum
X-ORIGINAL-URL:https://www.hopewellmuseum.org
X-WR-CALDESC:Events for Hopewell Museum
REFRESH-INTERVAL;VALUE=DURATION:PT1H
X-Robots-Tag:noindex
X-PUBLISHED-TTL:PT1H
BEGIN:VTIMEZONE
TZID:America/New_York
BEGIN:DAYLIGHT
TZOFFSETFROM:-0500
TZOFFSETTO:-0400
TZNAME:EDT
DTSTART:20230312T070000
END:DAYLIGHT
BEGIN:STANDARD
TZOFFSETFROM:-0400
TZOFFSETTO:-0500
TZNAME:EST
DTSTART:20231105T060000
END:STANDARD
BEGIN:DAYLIGHT
TZOFFSETFROM:-0500
TZOFFSETTO:-0400
TZNAME:EDT
DTSTART:20240310T070000
END:DAYLIGHT
BEGIN:STANDARD
TZOFFSETFROM:-0400
TZOFFSETTO:-0500
TZNAME:EST
DTSTART:20241103T060000
END:STANDARD
BEGIN:DAYLIGHT
TZOFFSETFROM:-0500
TZOFFSETTO:-0400
TZNAME:EDT
DTSTART:20250309T070000
END:DAYLIGHT
BEGIN:STANDARD
TZOFFSETFROM:-0400
TZOFFSETTO:-0500
TZNAME:EST
DTSTART:20251102T060000
END:STANDARD
END:VTIMEZONE
BEGIN:VEVENT
DTSTART;TZID=America/New_York:20240610T100000
DTEND;TZID=America/New_York:20240614T130000
DTSTAMP:20260421T200744
CREATED:20240227T224149Z
LAST-MODIFIED:20240604T011112Z
UID:5203-1718013600-1718370000@www.hopewellmuseum.org
SUMMARY:Summer Creatives Camp
DESCRIPTION:Calling All Creatives! The 2024 Hopewell Museum Summer Creatives Camp for ages 9-12 will be held from June 10-14\, 10am – 1pm\, with lunch included each day. \nCampers will express their creativity across a variety of activities throughout the week: visual art on Monday\, storytelling on Tuesday\, photography on Wednesday\, writing (we’re creating a camp newspaper!) on Thursday and baking on Friday. \nThe week will culminate with campers participating in an exhibit of their artwork produced during camp on Saturday\, June 15th\, from 10:30am to noon at the museum. Family friendly light bites will be served. \nRegistration opens May 15th. Cost is $60/week\, which includes lunch and art supplies. Campers should bring their own camera or smartphone for photography. Please also bring a water bottle for hydration throughout the morning! \nWe only have space for 22 campers. Register online below today! \nRegistration is now closed!
URL:https://www.hopewellmuseum.org/event/summer-creatives-camp-2/
LOCATION:Hopewell Museum
END:VEVENT
END:VCALENDAR