BEGIN:VCALENDAR
VERSION:2.0
PRODID:-//Hopewell Museum - ECPv6.15.17.1//NONSGML v1.0//EN
CALSCALE:GREGORIAN
METHOD:PUBLISH
X-ORIGINAL-URL:https://www.hopewellmuseum.org
X-WR-CALDESC:Events for Hopewell Museum
REFRESH-INTERVAL;VALUE=DURATION:PT1H
X-Robots-Tag:noindex
X-PUBLISHED-TTL:PT1H
BEGIN:VTIMEZONE
TZID:America/New_York
BEGIN:DAYLIGHT
TZOFFSETFROM:-0500
TZOFFSETTO:-0400
TZNAME:EDT
DTSTART:20240310T070000
END:DAYLIGHT
BEGIN:STANDARD
TZOFFSETFROM:-0400
TZOFFSETTO:-0500
TZNAME:EST
DTSTART:20241103T060000
END:STANDARD
BEGIN:DAYLIGHT
TZOFFSETFROM:-0500
TZOFFSETTO:-0400
TZNAME:EDT
DTSTART:20250309T070000
END:DAYLIGHT
BEGIN:STANDARD
TZOFFSETFROM:-0400
TZOFFSETTO:-0500
TZNAME:EST
DTSTART:20251102T060000
END:STANDARD
BEGIN:DAYLIGHT
TZOFFSETFROM:-0500
TZOFFSETTO:-0400
TZNAME:EDT
DTSTART:20260308T070000
END:DAYLIGHT
BEGIN:STANDARD
TZOFFSETFROM:-0400
TZOFFSETTO:-0500
TZNAME:EST
DTSTART:20261101T060000
END:STANDARD
END:VTIMEZONE
BEGIN:VEVENT
DTSTART;TZID=America/New_York:20250815T183000
DTEND;TZID=America/New_York:20250815T203000
DTSTAMP:20260421T053754
CREATED:20250203T215621Z
LAST-MODIFIED:20250813T130501Z
UID:5357-1755282600-1755289800@www.hopewellmuseum.org
SUMMARY:Mary Spears Van Meter Dinner
DESCRIPTION:Join The Hopewell Museum/Historic Paris Bourbon County for an engaging evening at the annual Mary Spears Van Meter Dinner at The Whiskey House (616 Main St.) in Paris with special guest speaker Darren Taylor! Taylor\, a founding partner of architectural firm — Gibson Taylor Thompson\, is a dedicated advocate for adaptive reuse and historic preservation.  Don’t miss this opportunity to hear Darren’s insights on preservation\, design\, and the evolving narrative of architecture for Paris and Bourbon County. \nAt the dinner\, HPBC/Hopewell Museum will present the 2025 Mary Spears Van Meter Historic Preservation Award to an individual dedicated to preservation in the community. \nTickets are $50 each and include a catered meal and drinks.  \nRSVP Online\nOnline RSVP is now closed.
URL:https://www.hopewellmuseum.org/event/msvm_dinner/
LOCATION:The Whiskey House\, 616 Main Street\, Paris\, KY\, 40361\, United States
ATTACH;FMTTYPE=image/png:https://www.hopewellmuseum.org/wp-content/uploads/2025/02/Mary-Spears-Van-Meter-Dinner.png
END:VEVENT
END:VCALENDAR