BEGIN:VCALENDAR
VERSION:2.0
PRODID:-//Hopewell Museum - ECPv6.15.17.1//NONSGML v1.0//EN
CALSCALE:GREGORIAN
METHOD:PUBLISH
X-WR-CALNAME:Hopewell Museum
X-ORIGINAL-URL:https://www.hopewellmuseum.org
X-WR-CALDESC:Events for Hopewell Museum
REFRESH-INTERVAL;VALUE=DURATION:PT1H
X-Robots-Tag:noindex
X-PUBLISHED-TTL:PT1H
BEGIN:VTIMEZONE
TZID:UTC
BEGIN:STANDARD
TZOFFSETFROM:+0000
TZOFFSETTO:+0000
TZNAME:UTC
DTSTART:20180101T000000
END:STANDARD
END:VTIMEZONE
BEGIN:VEVENT
DTSTART;TZID=UTC:20200305T160000
DTEND;TZID=UTC:20200305T170000
DTSTAMP:20260419T104342
CREATED:20200204T211720Z
LAST-MODIFIED:20200204T211720Z
UID:1881-1583424000-1583427600@www.hopewellmuseum.org
SUMMARY:Teen Art Studio\, Thursdays 4-5 PM
DESCRIPTION:Teens from all schools are invited to create their own artwork every Thursday at the Museum! In partnership with Paris-Bourbon County Library. Supported in part by the Joy Vaughn Venter Art Fund. Free\, with snacks & supplies included. No Teen Art Studio in January & December or during summer break\, unless otherwise posted on social media.
URL:https://www.hopewellmuseum.org/event/teen-art-studio-thursdays-4-5-pm-6/
END:VEVENT
BEGIN:VEVENT
DTSTART;TZID=UTC:20200227T160000
DTEND;TZID=UTC:20200227T170000
DTSTAMP:20260419T104342
CREATED:20200204T211651Z
LAST-MODIFIED:20200204T211651Z
UID:1879-1582819200-1582822800@www.hopewellmuseum.org
SUMMARY:Teen Art Studio\, Thursdays 4-5 PM
DESCRIPTION:Teens from all schools are invited to create their own artwork every Thursday at the Museum! In partnership with Paris-Bourbon County Library. Supported in part by the Joy Vaughn Venter Art Fund. Free\, with snacks & supplies included. No Teen Art Studio in January & December or during summer break\, unless otherwise posted on social media.
URL:https://www.hopewellmuseum.org/event/teen-art-studio-thursdays-4-5-pm-5/
END:VEVENT
BEGIN:VEVENT
DTSTART;TZID=UTC:20200225T100000
DTEND;TZID=UTC:20200225T110000
DTSTAMP:20260419T104342
CREATED:20200204T223734Z
LAST-MODIFIED:20200204T223734Z
UID:1965-1582624800-1582628400@www.hopewellmuseum.org
SUMMARY:Hopewell Docent Training & Coffee
DESCRIPTION:Docents will learn more about the current exhibit\, see examples of History Hall tours from other docents\, and enjoy coffee and pastries.
URL:https://www.hopewellmuseum.org/event/hopewell-docent-training-coffee/
END:VEVENT
BEGIN:VEVENT
DTSTART;TZID=UTC:20200220T160000
DTEND;TZID=UTC:20200220T170000
DTSTAMP:20260419T104342
CREATED:20200204T211626Z
LAST-MODIFIED:20200204T211626Z
UID:1877-1582214400-1582218000@www.hopewellmuseum.org
SUMMARY:Teen Art Studio\, Thursdays 4-5 PM
DESCRIPTION:Teens from all schools are invited to create their own artwork every Thursday at the Museum! In partnership with Paris-Bourbon County Library. Supported in part by the Joy Vaughn Venter Art Fund. Free\, with snacks & supplies included. No Teen Art Studio in January & December or during summer break\, unless otherwise posted on social media.
URL:https://www.hopewellmuseum.org/event/teen-art-studio-thursdays-4-5-pm-4/
END:VEVENT
BEGIN:VEVENT
DTSTART;TZID=UTC:20200220T160000
DTEND;TZID=UTC:20200220T170000
DTSTAMP:20260419T104342
CREATED:20200204T211555Z
LAST-MODIFIED:20200204T211555Z
UID:1875-1582214400-1582218000@www.hopewellmuseum.org
SUMMARY:Teen Art Studio\, Thursdays 4-5 PM
DESCRIPTION:Teens from all schools are invited to create their own artwork every Thursday at the Museum! In partnership with Paris-Bourbon County Library. Supported in part by the Joy Vaughn Venter Art Fund. Free\, with snacks & supplies included. No Teen Art Studio in January & December or during summer break\, unless otherwise posted on social media.
URL:https://www.hopewellmuseum.org/event/teen-art-studio-thursdays-4-5-pm-3/
END:VEVENT
BEGIN:VEVENT
DTSTART;TZID=UTC:20200216T140000
DTEND;TZID=UTC:20200216T160000
DTSTAMP:20260419T104342
CREATED:20200204T223701Z
LAST-MODIFIED:20200204T223701Z
UID:1963-1581861600-1581868800@www.hopewellmuseum.org
SUMMARY:Black Hemp History
DESCRIPTION:We will be joined by Andrew Patrick\, PhD and Ashley Smith\, co-founder of Black Soil: Our Better Nature for a program discussing the integral role of African-Americans in agriculture and the Kentucky hemp industry. Part of our Black History Month programming in partnership with the Paris-Bourbon County Library & the Kentucky Hemp Heritage Alliance. Free & open to the public.
URL:https://www.hopewellmuseum.org/event/black-hemp-history/
END:VEVENT
BEGIN:VEVENT
DTSTART;TZID=UTC:20200213T160000
DTEND;TZID=UTC:20200213T170000
DTSTAMP:20260419T104342
CREATED:20200204T211525Z
LAST-MODIFIED:20200204T211525Z
UID:1873-1581609600-1581613200@www.hopewellmuseum.org
SUMMARY:Teen Art Studio\, Thursdays 4-5 PM
DESCRIPTION:Teens from all schools are invited to create their own artwork every Thursday at the Museum! In partnership with Paris-Bourbon County Library. Supported in part by the Joy Vaughn Venter Art Fund. Free\, with snacks & supplies included. No Teen Art Studio in January & December or during summer break\, unless otherwise posted on social media.
URL:https://www.hopewellmuseum.org/event/teen-art-studio-thursdays-4-5-pm-2/
END:VEVENT
BEGIN:VEVENT
DTSTART;TZID=UTC:20200211T103000
DTEND;TZID=UTC:20200211T113000
DTSTAMP:20260419T104342
CREATED:20200204T223610Z
LAST-MODIFIED:20200206T225412Z
UID:1961-1581417000-1581420600@www.hopewellmuseum.org
SUMMARY:The Tribulations & Triumph of Elisha Green at the Paris- Bourbon County Library
DESCRIPTION:Dr. Randolph Runyon will speak on his new book about the Reverend Elisha Green. Part of our Black History Month programming in partnership with the Paris-Bourbon County Library. Free & open to the public.
URL:https://www.hopewellmuseum.org/event/the-tribulations-triumph-of-elisha-green-at-the-paris-bourbon-county-library/
LOCATION:Paris-Bourbon County Public Library\,  701 High St\, Paris\, KY\, 40361\, United States
END:VEVENT
BEGIN:VEVENT
DTSTART;TZID=UTC:20200209T140000
DTEND;TZID=UTC:20200209T160000
DTSTAMP:20260419T104342
CREATED:20200204T235110Z
LAST-MODIFIED:20200204T235110Z
UID:1984-1581256800-1581264000@www.hopewellmuseum.org
SUMMARY:Exhibit Opening: Politics the Damnedest: Bourbon County People\, Events\, & Movements from 1780-1980
DESCRIPTION:This exhibit tells the story of people\, events\, and movements that impacted local\, state\, and national politics from 1780 to 1980. Special guests: Women’s Suffrage Centennial Chorus. In honor of the exhibit\, which will feature a section on the 19th Amendment and suffrage\, the Kentucky Women’s Suffrage Choir will sing suffrage songs. Light refreshments. Free & open to the public. On display through June 21.
URL:https://www.hopewellmuseum.org/event/exhibit-opening-politics-the-damnedest-bourbon-county-people-events-movements-from-1780-1980/
END:VEVENT
BEGIN:VEVENT
DTSTART;TZID=UTC:20200206T160000
DTEND;TZID=UTC:20200206T170000
DTSTAMP:20260419T104342
CREATED:20200204T211257Z
LAST-MODIFIED:20200204T211458Z
UID:1870-1581004800-1581008400@www.hopewellmuseum.org
SUMMARY:Teen Art Studio\, Thursdays 4-5 PM
DESCRIPTION:Teens from all schools are invited to create their own artwork every Thursday at the Museum! In partnership with Paris-Bourbon County Library. Supported in part by the Joy Vaughn Venter Art Fund. Free\, with snacks & supplies included. No Teen Art Studio in January & December or during summer break\, unless otherwise posted on social media.
URL:https://www.hopewellmuseum.org/event/teen-art-studio-thursdays-4-5-pm/
END:VEVENT
BEGIN:VEVENT
DTSTART;TZID=UTC:20191214T170000
DTEND;TZID=UTC:20191214T190000
DTSTAMP:20260419T104342
CREATED:20190120T001101Z
LAST-MODIFIED:20191105T201240Z
UID:1503-1576342800-1576350000@www.hopewellmuseum.org
SUMMARY:Christmas Party
DESCRIPTION:Enjoy a festive evening with friends\, heavy hors d’oeuvres\, & drinks! RSVP by Dec. 12.  \n$35 Members/$40 Non-members. Proceeds benefit education programs. \nReserve online!
URL:https://www.hopewellmuseum.org/event/christmas-party-2/
LOCATION:Hopewell Museum
END:VEVENT
BEGIN:VEVENT
DTSTART;TZID=UTC:20191208T140000
DTEND;TZID=UTC:20191208T160000
DTSTAMP:20260419T104342
CREATED:20190119T233214Z
LAST-MODIFIED:20190119T233214Z
UID:1425-1575813600-1575820800@www.hopewellmuseum.org
SUMMARY:Family Fun Series: Santa at the Museum 1:30*\, 2-4 PM
DESCRIPTION:Meet Santa and his Museum helpers for free photos\, crafts\, and cookies. *Families of children with special needs may schedule an appointment between 1:30-2:00 PM. Free & open to the public. Sponsored by Kentucky Bank.
URL:https://www.hopewellmuseum.org/event/family-fun-series-santa-at-the-museum-130-2-4-pm/
LOCATION:Hopewell Museum
END:VEVENT
BEGIN:VEVENT
DTSTART;TZID=UTC:20191116T140000
DTEND;TZID=UTC:20191116T160000
DTSTAMP:20260419T104342
CREATED:20190119T233049Z
LAST-MODIFIED:20190119T233049Z
UID:1423-1573912800-1573920000@www.hopewellmuseum.org
SUMMARY:Family Fun Series: Gingerbread Houses with Fonda Eigel (Register by November 9)
DESCRIPTION:Hands-on art & history activities. Activities subject to change. Pre-registration requested\, space is limited. Children must be accompanied by an adult. All activities are 2-4 PM unless otherwise noted. Free.
URL:https://www.hopewellmuseum.org/event/family-fun-series-gingerbread-houses-with-fonda-eigel-register-by-november-9/
LOCATION:Hopewell Museum
END:VEVENT
BEGIN:VEVENT
DTSTART;TZID=UTC:20191114T180000
DTEND;TZID=UTC:20191114T200000
DTSTAMP:20260419T104342
CREATED:20190120T000950Z
LAST-MODIFIED:20190120T000950Z
UID:1501-1573754400-1573761600@www.hopewellmuseum.org
SUMMARY:Annual Membership Meeting & Soup Supper
DESCRIPTION:Free & open to members.
URL:https://www.hopewellmuseum.org/event/annual-membership-meeting-soup-supper-3/
LOCATION:Hopewell Museum
END:VEVENT
BEGIN:VEVENT
DTSTART;TZID=UTC:20191031T160000
DTEND;TZID=UTC:20191031T170000
DTSTAMP:20260419T104342
CREATED:20190119T233413Z
LAST-MODIFIED:20190119T233413Z
UID:1530-1572537600-1572541200@www.hopewellmuseum.org
SUMMARY:Teen Art Studio
DESCRIPTION:Create your own artwork every Thursday at the Museum! In partnership with Paris-Bourbon County Library. Sponsored by The Cralle Foundation & Micah Campbell—Kentucky Farm Bureau\, Bourbon County. Free\, with snacks & supplies included. No Teen Art Studio in January & December.
URL:https://www.hopewellmuseum.org/event/teen-art-studio-8-2019-10-31/
LOCATION:Hopewell Museum
END:VEVENT
BEGIN:VEVENT
DTSTART;TZID=UTC:20191024T160000
DTEND;TZID=UTC:20191024T170000
DTSTAMP:20260419T104342
CREATED:20190119T233413Z
LAST-MODIFIED:20190120T010450Z
UID:1465-1571932800-1571936400@www.hopewellmuseum.org
SUMMARY:Teen Art Studio
DESCRIPTION:Create your own artwork every Thursday at the Museum! In partnership with Paris-Bourbon County Library. Sponsored by The Cralle Foundation & Micah Campbell—Kentucky Farm Bureau\, Bourbon County. Free\, with snacks & supplies included. No Teen Art Studio in January & December.
URL:https://www.hopewellmuseum.org/event/teen-art-studio-8-2019-10-24/
LOCATION:Hopewell Museum
END:VEVENT
BEGIN:VEVENT
DTSTART;TZID=UTC:20191020T140000
DTEND;TZID=UTC:20191020T160000
DTSTAMP:20260419T104342
CREATED:20190120T000852Z
LAST-MODIFIED:20190120T000852Z
UID:1498-1571580000-1571587200@www.hopewellmuseum.org
SUMMARY:Ruddles Mills Cemetery Walking Tour
DESCRIPTION:Insights provided by local historians. Pre-registration required. $10/person\, students under 15 free. Proceeds benefit HPBC/HM and Ruddles Mills Cemetery.
URL:https://www.hopewellmuseum.org/event/ruddles-mills-cemetery-walking-tour/
LOCATION:Ruddles Mills Cemetery
END:VEVENT
BEGIN:VEVENT
DTSTART;TZID=UTC:20191019T180000
DTEND;TZID=UTC:20191019T200000
DTSTAMP:20260419T104342
CREATED:20190119T232938Z
LAST-MODIFIED:20190119T232938Z
UID:1421-1571508000-1571515200@www.hopewellmuseum.org
SUMMARY:Family Fun Series: Night at the Museum\, 6-8 PM
DESCRIPTION:Hands-on art & history activities. Activities subject to change. Pre-registration requested\, space is limited. Children must be accompanied by an adult. All activities are 2-4 PM unless otherwise noted. Free.
URL:https://www.hopewellmuseum.org/event/family-fun-series-night-at-the-museum-6-8-pm/
LOCATION:Hopewell Museum
END:VEVENT
BEGIN:VEVENT
DTSTART;TZID=UTC:20191017T160000
DTEND;TZID=UTC:20191017T170000
DTSTAMP:20260419T104342
CREATED:20190119T233413Z
LAST-MODIFIED:20190120T010450Z
UID:1464-1571328000-1571331600@www.hopewellmuseum.org
SUMMARY:Teen Art Studio
DESCRIPTION:Create your own artwork every Thursday at the Museum! In partnership with Paris-Bourbon County Library. Sponsored by The Cralle Foundation & Micah Campbell—Kentucky Farm Bureau\, Bourbon County. Free\, with snacks & supplies included. No Teen Art Studio in January & December.
URL:https://www.hopewellmuseum.org/event/teen-art-studio-8-2019-10-17/
LOCATION:Hopewell Museum
END:VEVENT
BEGIN:VEVENT
DTSTART;TZID=UTC:20191011T180000
DTEND;TZID=UTC:20191011T200000
DTSTAMP:20260419T104342
CREATED:20190120T001551Z
LAST-MODIFIED:20190120T001559Z
UID:1509-1570816800-1570824000@www.hopewellmuseum.org
SUMMARY:Exhibit Opening: Creative Harvest
DESCRIPTION:Free & open to the public. Talented artists of the region bring a multi-faceted exhibit of 2 and 3-D works to the walls of the Museum. On display through December 16.
URL:https://www.hopewellmuseum.org/event/exhibit-opening-creative-harvest/
LOCATION:Hopewell Museum
END:VEVENT
BEGIN:VEVENT
DTSTART;TZID=UTC:20191010T160000
DTEND;TZID=UTC:20191010T170000
DTSTAMP:20260419T104342
CREATED:20190119T233413Z
LAST-MODIFIED:20190120T010449Z
UID:1463-1570723200-1570726800@www.hopewellmuseum.org
SUMMARY:Teen Art Studio
DESCRIPTION:Create your own artwork every Thursday at the Museum! In partnership with Paris-Bourbon County Library. Sponsored by The Cralle Foundation & Micah Campbell—Kentucky Farm Bureau\, Bourbon County. Free\, with snacks & supplies included. No Teen Art Studio in January & December.
URL:https://www.hopewellmuseum.org/event/teen-art-studio-8-2019-10-10/
LOCATION:Hopewell Museum
END:VEVENT
BEGIN:VEVENT
DTSTART;TZID=UTC:20191003T160000
DTEND;TZID=UTC:20191003T170000
DTSTAMP:20260419T104342
CREATED:20190119T233413Z
LAST-MODIFIED:20190120T010449Z
UID:1462-1570118400-1570122000@www.hopewellmuseum.org
SUMMARY:Teen Art Studio
DESCRIPTION:Create your own artwork every Thursday at the Museum! In partnership with Paris-Bourbon County Library. Sponsored by The Cralle Foundation & Micah Campbell—Kentucky Farm Bureau\, Bourbon County. Free\, with snacks & supplies included. No Teen Art Studio in January & December.
URL:https://www.hopewellmuseum.org/event/teen-art-studio-8-2019-10-03/
LOCATION:Hopewell Museum
END:VEVENT
BEGIN:VEVENT
DTSTART;TZID=UTC:20190926T160000
DTEND;TZID=UTC:20190926T170000
DTSTAMP:20260419T104342
CREATED:20190119T233413Z
LAST-MODIFIED:20190120T010449Z
UID:1461-1569513600-1569517200@www.hopewellmuseum.org
SUMMARY:Teen Art Studio
DESCRIPTION:Create your own artwork every Thursday at the Museum! In partnership with Paris-Bourbon County Library. Sponsored by The Cralle Foundation & Micah Campbell—Kentucky Farm Bureau\, Bourbon County. Free\, with snacks & supplies included. No Teen Art Studio in January & December.
URL:https://www.hopewellmuseum.org/event/teen-art-studio-8-2019-09-26/
LOCATION:Hopewell Museum
END:VEVENT
BEGIN:VEVENT
DTSTART;TZID=UTC:20190919T160000
DTEND;TZID=UTC:20190919T170000
DTSTAMP:20260419T104342
CREATED:20190119T233413Z
LAST-MODIFIED:20190120T010449Z
UID:1460-1568908800-1568912400@www.hopewellmuseum.org
SUMMARY:Teen Art Studio
DESCRIPTION:Create your own artwork every Thursday at the Museum! In partnership with Paris-Bourbon County Library. Sponsored by The Cralle Foundation & Micah Campbell—Kentucky Farm Bureau\, Bourbon County. Free\, with snacks & supplies included. No Teen Art Studio in January & December.
URL:https://www.hopewellmuseum.org/event/teen-art-studio-8-2019-09-19/
LOCATION:Hopewell Museum
END:VEVENT
BEGIN:VEVENT
DTSTART;TZID=UTC:20190915T140000
DTEND;TZID=UTC:20190915T160000
DTSTAMP:20260419T104342
CREATED:20190120T000658Z
LAST-MODIFIED:20190815T213742Z
UID:1496-1568556000-1568563200@www.hopewellmuseum.org
SUMMARY:Fall Open House at Fairfield
DESCRIPTION:Tour this home that sits at the site where Gov. Garrard settled\, the site of  Martin’s Station\, & the Alanant-o-Wamiowee Buffalo Trace. This modern construction uses elements from regional historic homes & has a fine collection of Kentucky antiques and art. Pick up self-driving tour map at Fairfield. \n$10 Members/$15 Non-members\, no reservations required\, pay on-site the day of the tour. Proceeds support the programs of HPBC/Hopewell Museum.  \nLight refreshments provided. $10 Members/$15 Non-members. \nLocation: 500 Cynthiana Road\, Paris\, KY
URL:https://www.hopewellmuseum.org/event/fall-open-house-at-fairfield/
END:VEVENT
BEGIN:VEVENT
DTSTART;TZID=UTC:20190913T170000
DTEND;TZID=UTC:20190913T210000
DTSTAMP:20260419T104342
CREATED:20190120T000533Z
LAST-MODIFIED:20190120T000533Z
UID:1494-1568394000-1568408400@www.hopewellmuseum.org
SUMMARY:Paris ARTWALK
DESCRIPTION:A look at regional artists’ works throughout downtown Paris & at the Hopewell Museum. Featured artist will be Dara McAllister Hobson. Light refreshments. Free & open to the public.
URL:https://www.hopewellmuseum.org/event/paris-artwalk-6/
LOCATION:Hopewell Museum
END:VEVENT
BEGIN:VEVENT
DTSTART;TZID=UTC:20190912T160000
DTEND;TZID=UTC:20190912T170000
DTSTAMP:20260419T104342
CREATED:20190119T233413Z
LAST-MODIFIED:20190120T010449Z
UID:1459-1568304000-1568307600@www.hopewellmuseum.org
SUMMARY:Teen Art Studio
DESCRIPTION:Create your own artwork every Thursday at the Museum! In partnership with Paris-Bourbon County Library. Sponsored by The Cralle Foundation & Micah Campbell—Kentucky Farm Bureau\, Bourbon County. Free\, with snacks & supplies included. No Teen Art Studio in January & December.
URL:https://www.hopewellmuseum.org/event/teen-art-studio-8-2019-09-12/
LOCATION:Hopewell Museum
END:VEVENT
BEGIN:VEVENT
DTSTART;TZID=UTC:20190910T180000
DTEND;TZID=UTC:20190910T200000
DTSTAMP:20260419T104342
CREATED:20190120T000430Z
LAST-MODIFIED:20190120T000430Z
UID:1492-1568138400-1568145600@www.hopewellmuseum.org
SUMMARY:Volunteer Potluck Supper & Award Dinner
DESCRIPTION:Volunteers & their guests are invited! Bring a dish to share. Meat/drinks provided. Free & open to volunteers.
URL:https://www.hopewellmuseum.org/event/volunteer-potluck-supper-award-dinner/
LOCATION:Hopewell Museum
END:VEVENT
BEGIN:VEVENT
DTSTART;TZID=UTC:20190905T160000
DTEND;TZID=UTC:20190905T170000
DTSTAMP:20260419T104342
CREATED:20190119T233413Z
LAST-MODIFIED:20190120T010449Z
UID:1458-1567699200-1567702800@www.hopewellmuseum.org
SUMMARY:Teen Art Studio
DESCRIPTION:Create your own artwork every Thursday at the Museum! In partnership with Paris-Bourbon County Library. Sponsored by The Cralle Foundation & Micah Campbell—Kentucky Farm Bureau\, Bourbon County. Free\, with snacks & supplies included. No Teen Art Studio in January & December.
URL:https://www.hopewellmuseum.org/event/teen-art-studio-8-2019-09-05/
LOCATION:Hopewell Museum
END:VEVENT
BEGIN:VEVENT
DTSTART;TZID=UTC:20190829T160000
DTEND;TZID=UTC:20190829T170000
DTSTAMP:20260419T104342
CREATED:20190119T233413Z
LAST-MODIFIED:20190120T010449Z
UID:1457-1567094400-1567098000@www.hopewellmuseum.org
SUMMARY:Teen Art Studio
DESCRIPTION:Create your own artwork every Thursday at the Museum! In partnership with Paris-Bourbon County Library. Sponsored by The Cralle Foundation & Micah Campbell—Kentucky Farm Bureau\, Bourbon County. Free\, with snacks & supplies included. No Teen Art Studio in January & December.
URL:https://www.hopewellmuseum.org/event/teen-art-studio-8-2019-08-29/
LOCATION:Hopewell Museum
END:VEVENT
END:VCALENDAR