BEGIN:VCALENDAR
VERSION:2.0
PRODID:-//Hopewell Museum - ECPv6.15.17.1//NONSGML v1.0//EN
CALSCALE:GREGORIAN
METHOD:PUBLISH
X-WR-CALNAME:Hopewell Museum
X-ORIGINAL-URL:https://www.hopewellmuseum.org
X-WR-CALDESC:Events for Hopewell Museum
REFRESH-INTERVAL;VALUE=DURATION:PT1H
X-Robots-Tag:noindex
X-PUBLISHED-TTL:PT1H
BEGIN:VTIMEZONE
TZID:UTC
BEGIN:STANDARD
TZOFFSETFROM:+0000
TZOFFSETTO:+0000
TZNAME:UTC
DTSTART:20180101T000000
END:STANDARD
END:VTIMEZONE
BEGIN:VEVENT
DTSTART;TZID=UTC:20190704T160000
DTEND;TZID=UTC:20190704T170000
DTSTAMP:20260419T225032
CREATED:20190119T233413Z
LAST-MODIFIED:20190120T010448Z
UID:1449-1562256000-1562259600@www.hopewellmuseum.org
SUMMARY:Teen Art Studio
DESCRIPTION:Create your own artwork every Thursday at the Museum! In partnership with Paris-Bourbon County Library. Sponsored by The Cralle Foundation & Micah Campbell—Kentucky Farm Bureau\, Bourbon County. Free\, with snacks & supplies included. No Teen Art Studio in January & December.
URL:https://www.hopewellmuseum.org/event/teen-art-studio-8-2019-07-04/
LOCATION:Hopewell Museum
END:VEVENT
BEGIN:VEVENT
DTSTART;TZID=UTC:20190629T080000
DTEND;TZID=UTC:20190629T170000
DTSTAMP:20260419T225032
CREATED:20190120T000020Z
LAST-MODIFIED:20190120T000020Z
UID:1486-1561795200-1561827600@www.hopewellmuseum.org
SUMMARY:New Annual Event for 2019: Hidden History
DESCRIPTION:Details To Be Determined!
URL:https://www.hopewellmuseum.org/event/new-annual-event-for-2019-hidden-history/
LOCATION:Hopewell Museum
END:VEVENT
BEGIN:VEVENT
DTSTART;TZID=UTC:20190627T160000
DTEND;TZID=UTC:20190627T170000
DTSTAMP:20260419T225032
CREATED:20190119T233413Z
LAST-MODIFIED:20190120T010448Z
UID:1448-1561651200-1561654800@www.hopewellmuseum.org
SUMMARY:Teen Art Studio
DESCRIPTION:Create your own artwork every Thursday at the Museum! In partnership with Paris-Bourbon County Library. Sponsored by The Cralle Foundation & Micah Campbell—Kentucky Farm Bureau\, Bourbon County. Free\, with snacks & supplies included. No Teen Art Studio in January & December.
URL:https://www.hopewellmuseum.org/event/teen-art-studio-8-2019-06-27/
LOCATION:Hopewell Museum
END:VEVENT
BEGIN:VEVENT
DTSTART;TZID=UTC:20190621T173000
DTEND;TZID=UTC:20190621T183000
DTSTAMP:20260419T225032
CREATED:20190119T234048Z
LAST-MODIFIED:20190120T002046Z
UID:1468-1561138200-1561141800@www.hopewellmuseum.org
SUMMARY:Photography Camp Exhibit Opening
DESCRIPTION:Light refreshments. Free & open to the public.
URL:https://www.hopewellmuseum.org/event/photography-camp-exhibit-opening-2/
LOCATION:Hopewell Museum
END:VEVENT
BEGIN:VEVENT
DTSTART;TZID=UTC:20190620T160000
DTEND;TZID=UTC:20190620T170000
DTSTAMP:20260419T225032
CREATED:20190119T233413Z
LAST-MODIFIED:20190120T010448Z
UID:1447-1561046400-1561050000@www.hopewellmuseum.org
SUMMARY:Teen Art Studio
DESCRIPTION:Create your own artwork every Thursday at the Museum! In partnership with Paris-Bourbon County Library. Sponsored by The Cralle Foundation & Micah Campbell—Kentucky Farm Bureau\, Bourbon County. Free\, with snacks & supplies included. No Teen Art Studio in January & December.
URL:https://www.hopewellmuseum.org/event/teen-art-studio-8-2019-06-20/
LOCATION:Hopewell Museum
END:VEVENT
BEGIN:VEVENT
DTSTART;TZID=UTC:20190618T120000
DTEND;TZID=UTC:20190621T160000
DTSTAMP:20260419T225032
CREATED:20190119T234009Z
LAST-MODIFIED:20190120T005753Z
UID:1466-1560859200-1561132800@www.hopewellmuseum.org
SUMMARY:Summer Photography Camp\, 12 p.m. to 4 p.m.\, June 18th through 21st
DESCRIPTION:June 18-21\, 12-4 PM Photography Camp. For ages 8-11. Campers will study the current exhibit\, meet professional photographers\, learn about the history of photography\, & create their own artwork. Space is limited & pre-registration required on a firstcome\, first served basis. Registration will open April 1st. Cost $20/week. Includes lunch & supplies. Scholarships available. Sponsored by Traditional Bank
URL:https://www.hopewellmuseum.org/event/summer-photography-camp/
LOCATION:Hopewell Museum
END:VEVENT
BEGIN:VEVENT
DTSTART;TZID=UTC:20190613T160000
DTEND;TZID=UTC:20190613T170000
DTSTAMP:20260419T225032
CREATED:20190119T233413Z
LAST-MODIFIED:20190120T010448Z
UID:1446-1560441600-1560445200@www.hopewellmuseum.org
SUMMARY:Teen Art Studio
DESCRIPTION:Create your own artwork every Thursday at the Museum! In partnership with Paris-Bourbon County Library. Sponsored by The Cralle Foundation & Micah Campbell—Kentucky Farm Bureau\, Bourbon County. Free\, with snacks & supplies included. No Teen Art Studio in January & December.
URL:https://www.hopewellmuseum.org/event/teen-art-studio-8-2019-06-13/
LOCATION:Hopewell Museum
END:VEVENT
BEGIN:VEVENT
DTSTART;TZID=UTC:20190609T140000
DTEND;TZID=UTC:20190609T160000
DTSTAMP:20260419T225032
CREATED:20190120T001345Z
LAST-MODIFIED:20190120T001345Z
UID:1507-1560088800-1560096000@www.hopewellmuseum.org
SUMMARY:Exhibit Opening: Hattie Hutchcraft Hill: Bourbon County’s Adventurous Artist (1847-1921)
DESCRIPTION:Light refreshments. Free & open to the public. This exhibit will study the life and works of the internationally known artist of the aesthetic movement who was born and ultimately buried in Bourbon County\, KY. Curated by Margaret Layton. On display through September 29.
URL:https://www.hopewellmuseum.org/event/exhibit-opening-hattie-hutchcraft-hill-bourbon-countys-adventurous-artist-1847-1921/
LOCATION:Hopewell Museum
END:VEVENT
BEGIN:VEVENT
DTSTART;TZID=UTC:20190606T160000
DTEND;TZID=UTC:20190606T170000
DTSTAMP:20260419T225032
CREATED:20190119T233413Z
LAST-MODIFIED:20190120T010448Z
UID:1445-1559836800-1559840400@www.hopewellmuseum.org
SUMMARY:Teen Art Studio
DESCRIPTION:Create your own artwork every Thursday at the Museum! In partnership with Paris-Bourbon County Library. Sponsored by The Cralle Foundation & Micah Campbell—Kentucky Farm Bureau\, Bourbon County. Free\, with snacks & supplies included. No Teen Art Studio in January & December.
URL:https://www.hopewellmuseum.org/event/teen-art-studio-8-2019-06-06/
LOCATION:Hopewell Museum
END:VEVENT
BEGIN:VEVENT
DTSTART;TZID=UTC:20190530T160000
DTEND;TZID=UTC:20190530T170000
DTSTAMP:20260419T225032
CREATED:20190119T233413Z
LAST-MODIFIED:20190120T010447Z
UID:1444-1559232000-1559235600@www.hopewellmuseum.org
SUMMARY:Teen Art Studio
DESCRIPTION:Create your own artwork every Thursday at the Museum! In partnership with Paris-Bourbon County Library. Sponsored by The Cralle Foundation & Micah Campbell—Kentucky Farm Bureau\, Bourbon County. Free\, with snacks & supplies included. No Teen Art Studio in January & December.
URL:https://www.hopewellmuseum.org/event/teen-art-studio-8-2019-05-30/
LOCATION:Hopewell Museum
END:VEVENT
BEGIN:VEVENT
DTSTART;TZID=UTC:20190523T160000
DTEND;TZID=UTC:20190523T170000
DTSTAMP:20260419T225032
CREATED:20190119T233413Z
LAST-MODIFIED:20190120T010447Z
UID:1443-1558627200-1558630800@www.hopewellmuseum.org
SUMMARY:Teen Art Studio
DESCRIPTION:Create your own artwork every Thursday at the Museum! In partnership with Paris-Bourbon County Library. Sponsored by The Cralle Foundation & Micah Campbell—Kentucky Farm Bureau\, Bourbon County. Free\, with snacks & supplies included. No Teen Art Studio in January & December.
URL:https://www.hopewellmuseum.org/event/teen-art-studio-8-2019-05-23/
LOCATION:Hopewell Museum
END:VEVENT
BEGIN:VEVENT
DTSTART;TZID=UTC:20190518T100000
DTEND;TZID=UTC:20190518T130000
DTSTAMP:20260419T225032
CREATED:20190119T235102Z
LAST-MODIFIED:20190119T235102Z
UID:1484-1558173600-1558184400@www.hopewellmuseum.org
SUMMARY:Historic Preservation Month Event TBD
DESCRIPTION:
URL:https://www.hopewellmuseum.org/event/historic-preservation-month-event-tbd/
LOCATION:Hopewell Museum
END:VEVENT
BEGIN:VEVENT
DTSTART;TZID=UTC:20190516T180000
DTEND;TZID=UTC:20190516T190000
DTSTAMP:20260419T225032
CREATED:20190119T235008Z
LAST-MODIFIED:20190119T235008Z
UID:1482-1558029600-1558033200@www.hopewellmuseum.org
SUMMARY:Local History Day
DESCRIPTION:Join us at the museum for a student project showcase! Local area students have worked on local history projects to submit for the 1st Annual Mary Spears Van Meter History Award.
URL:https://www.hopewellmuseum.org/event/local-history-day/
LOCATION:Hopewell Museum
END:VEVENT
BEGIN:VEVENT
DTSTART;TZID=UTC:20190516T160000
DTEND;TZID=UTC:20190516T170000
DTSTAMP:20260419T225032
CREATED:20190119T233413Z
LAST-MODIFIED:20190120T010447Z
UID:1442-1558022400-1558026000@www.hopewellmuseum.org
SUMMARY:Teen Art Studio
DESCRIPTION:Create your own artwork every Thursday at the Museum! In partnership with Paris-Bourbon County Library. Sponsored by The Cralle Foundation & Micah Campbell—Kentucky Farm Bureau\, Bourbon County. Free\, with snacks & supplies included. No Teen Art Studio in January & December.
URL:https://www.hopewellmuseum.org/event/teen-art-studio-8-2019-05-16/
LOCATION:Hopewell Museum
END:VEVENT
BEGIN:VEVENT
DTSTART;TZID=UTC:20190512T100000
DTEND;TZID=UTC:20190512T110000
DTSTAMP:20260419T225032
CREATED:20190119T234909Z
LAST-MODIFIED:20190120T005507Z
UID:1480-1557655200-1557658800@www.hopewellmuseum.org
SUMMARY:Paris Storytelling Festival Jam Session with the Ruckers
DESCRIPTION:Nationally known storytelling musicians\, Sparky and Rhonda Rucker\, will hold an all-ages jam session for anyone who plays\, sings\, or just enjoys music. Free & open to the public.
URL:https://www.hopewellmuseum.org/event/paris-storytelling-festival-jam-session-with-the-ruckers/
LOCATION:Hopewell Museum
END:VEVENT
BEGIN:VEVENT
DTSTART;TZID=UTC:20190509T160000
DTEND;TZID=UTC:20190509T170000
DTSTAMP:20260419T225032
CREATED:20190119T233413Z
LAST-MODIFIED:20190120T010447Z
UID:1441-1557417600-1557421200@www.hopewellmuseum.org
SUMMARY:Teen Art Studio
DESCRIPTION:Create your own artwork every Thursday at the Museum! In partnership with Paris-Bourbon County Library. Sponsored by The Cralle Foundation & Micah Campbell—Kentucky Farm Bureau\, Bourbon County. Free\, with snacks & supplies included. No Teen Art Studio in January & December.
URL:https://www.hopewellmuseum.org/event/teen-art-studio-8-2019-05-09/
LOCATION:Hopewell Museum
END:VEVENT
BEGIN:VEVENT
DTSTART;TZID=UTC:20190502T160000
DTEND;TZID=UTC:20190502T170000
DTSTAMP:20260419T225032
CREATED:20190119T233413Z
LAST-MODIFIED:20190120T010447Z
UID:1440-1556812800-1556816400@www.hopewellmuseum.org
SUMMARY:Teen Art Studio
DESCRIPTION:Create your own artwork every Thursday at the Museum! In partnership with Paris-Bourbon County Library. Sponsored by The Cralle Foundation & Micah Campbell—Kentucky Farm Bureau\, Bourbon County. Free\, with snacks & supplies included. No Teen Art Studio in January & December.
URL:https://www.hopewellmuseum.org/event/teen-art-studio-8-2019-05-02/
LOCATION:Hopewell Museum
END:VEVENT
BEGIN:VEVENT
DTSTART;TZID=UTC:20190426T190000
DTEND;TZID=UTC:20190426T230000
DTSTAMP:20260419T225032
CREATED:20190119T234650Z
LAST-MODIFIED:20190425T205016Z
UID:1478-1556305200-1556319600@www.hopewellmuseum.org
SUMMARY:Win\, Place & Show Derby Party
DESCRIPTION:The Barr House\, 1200 Cypress Street. Join us for a fun pre-Derby celebration with dance music by The Mercy Men! Food\, Live & Silent Auction\, & Hat Contest! We are thrilled to welcome Eddie Caskey of the Palmer-Hampton Agency and Caskey’s Auctioneer Services as our guest auctioneer! RSVP Required. $60 Members/ $65 Non-members /$40 U40 /$70 at the door. Each ticket includes two drink tickets for the evening. Reserve a table for 8 for $400. Proceeds benefit education programs at HPBC/HM. \nParking Information\nThere is limited parking at the Barr House\, so we do encourage carpooling where possible. There will be parking attendants to direct you on where to park around the House and there is also on street parking.\nLimited free valet parking is available. \nPre-paid guests\nIf you have paid for your ticket or table in advance you will go to the pre-paid check-in tables to give your name and receive your program\, drink tickets\, and table number for the evening. If you are part of a table that was purchased give the name of the person/business that purchased the table to receive your table number.  \nPay at the door\nIf you have not yet paid for your ticket please go to the purchase ticket table when you arrive to do so.  \nThank you to our 2019 Exacta Sponsors!\nThe Barr House Inn\nCMWA\nBourbon County Citizen\nBluegrass Endodontics
URL:https://www.hopewellmuseum.org/event/win-place-show-derby-party-3/
LOCATION:The Barr House\, 1200 Cypress Street\, Paris\, KY\, 40361\, United States
END:VEVENT
BEGIN:VEVENT
DTSTART;TZID=UTC:20190425T160000
DTEND;TZID=UTC:20190425T170000
DTSTAMP:20260419T225032
CREATED:20190119T233413Z
LAST-MODIFIED:20190120T010447Z
UID:1439-1556208000-1556211600@www.hopewellmuseum.org
SUMMARY:Teen Art Studio
DESCRIPTION:Create your own artwork every Thursday at the Museum! In partnership with Paris-Bourbon County Library. Sponsored by The Cralle Foundation & Micah Campbell—Kentucky Farm Bureau\, Bourbon County. Free\, with snacks & supplies included. No Teen Art Studio in January & December.
URL:https://www.hopewellmuseum.org/event/teen-art-studio-8-2019-04-25/
LOCATION:Hopewell Museum
END:VEVENT
BEGIN:VEVENT
DTSTART;TZID=UTC:20190420T140000
DTEND;TZID=UTC:20190420T160000
DTSTAMP:20260419T225032
CREATED:20190119T232743Z
LAST-MODIFIED:20190119T232743Z
UID:1417-1555768800-1555776000@www.hopewellmuseum.org
SUMMARY:Family Fun Studio: Kid's Derby Art Day
DESCRIPTION:Hands-on art & history activities. Activities subject to change. Pre-registration requested\, space is limited. Children must be accompanied by an adult. All activities are 2-4 PM unless otherwise noted. Free.
URL:https://www.hopewellmuseum.org/event/family-fun-studio-kids-derby-art-day/
LOCATION:Hopewell Museum
END:VEVENT
BEGIN:VEVENT
DTSTART;TZID=UTC:20190418T160000
DTEND;TZID=UTC:20190418T170000
DTSTAMP:20260419T225032
CREATED:20190119T233413Z
LAST-MODIFIED:20190120T010447Z
UID:1438-1555603200-1555606800@www.hopewellmuseum.org
SUMMARY:Teen Art Studio
DESCRIPTION:Create your own artwork every Thursday at the Museum! In partnership with Paris-Bourbon County Library. Sponsored by The Cralle Foundation & Micah Campbell—Kentucky Farm Bureau\, Bourbon County. Free\, with snacks & supplies included. No Teen Art Studio in January & December.
URL:https://www.hopewellmuseum.org/event/teen-art-studio-8-2019-04-18/
LOCATION:Hopewell Museum
END:VEVENT
BEGIN:VEVENT
DTSTART;TZID=UTC:20190412T170000
DTEND;TZID=UTC:20190412T210000
DTSTAMP:20260419T225032
CREATED:20190119T234455Z
LAST-MODIFIED:20190119T234455Z
UID:1476-1555088400-1555102800@www.hopewellmuseum.org
SUMMARY:Paris ARTWALK
DESCRIPTION:A look at regional artists’ works throughout downtown Paris & at the Hopewell Museum. Featured artist is Sarah Spradlin. Light refreshments. Free & open to the public.
URL:https://www.hopewellmuseum.org/event/paris-artwalk-5/
LOCATION:Hopewell Museum
END:VEVENT
BEGIN:VEVENT
DTSTART;TZID=UTC:20190411T160000
DTEND;TZID=UTC:20190411T170000
DTSTAMP:20260419T225032
CREATED:20190119T233413Z
LAST-MODIFIED:20190120T010445Z
UID:1437-1554998400-1555002000@www.hopewellmuseum.org
SUMMARY:Teen Art Studio
DESCRIPTION:Create your own artwork every Thursday at the Museum! In partnership with Paris-Bourbon County Library. Sponsored by The Cralle Foundation & Micah Campbell—Kentucky Farm Bureau\, Bourbon County. Free\, with snacks & supplies included. No Teen Art Studio in January & December.
URL:https://www.hopewellmuseum.org/event/teen-art-studio-8-2019-04-11/
LOCATION:Hopewell Museum
END:VEVENT
BEGIN:VEVENT
DTSTART;TZID=UTC:20190404T160000
DTEND;TZID=UTC:20190404T170000
DTSTAMP:20260419T225032
CREATED:20190119T233413Z
LAST-MODIFIED:20190120T010445Z
UID:1436-1554393600-1554397200@www.hopewellmuseum.org
SUMMARY:Teen Art Studio
DESCRIPTION:Create your own artwork every Thursday at the Museum! In partnership with Paris-Bourbon County Library. Sponsored by The Cralle Foundation & Micah Campbell—Kentucky Farm Bureau\, Bourbon County. Free\, with snacks & supplies included. No Teen Art Studio in January & December.
URL:https://www.hopewellmuseum.org/event/teen-art-studio-8-2019-04-04/
LOCATION:Hopewell Museum
END:VEVENT
BEGIN:VEVENT
DTSTART;TZID=UTC:20190328T160000
DTEND;TZID=UTC:20190328T170000
DTSTAMP:20260419T225032
CREATED:20190119T233413Z
LAST-MODIFIED:20190120T010445Z
UID:1435-1553788800-1553792400@www.hopewellmuseum.org
SUMMARY:Teen Art Studio
DESCRIPTION:Create your own artwork every Thursday at the Museum! In partnership with Paris-Bourbon County Library. Sponsored by The Cralle Foundation & Micah Campbell—Kentucky Farm Bureau\, Bourbon County. Free\, with snacks & supplies included. No Teen Art Studio in January & December.
URL:https://www.hopewellmuseum.org/event/teen-art-studio-8-2019-03-28/
LOCATION:Hopewell Museum
END:VEVENT
BEGIN:VEVENT
DTSTART;TZID=UTC:20190325T190000
DTEND;TZID=UTC:20190325T210000
DTSTAMP:20260419T225032
CREATED:20190120T001947Z
LAST-MODIFIED:20190120T003420Z
UID:1518-1553540400-1553547600@www.hopewellmuseum.org
SUMMARY:Becoming American Film Series (See Event Details for Film List)
DESCRIPTION:Becoming American is a six-week series of public programs created by City Lore in partnership with the Immigration and Ethnic History Society and the International Coalition of Sites of Conscience. Major funding for the project has been provided by the National Endowment for the Humanities. Find out more at www.becoming-american.org. \nAll films will be shown at the Paris-Bourbon County Library Community Room\, 7-9 PM. Free & open to the public. \n\nFebruary 11 – New York\, A Documentary Film and The Jewish Americans\nFebruary 18 – Welcome to Shelbyville [Tennessee]\nMarch 4 – The New Americans: The Nigerians\nMarch 11 – Destination America: The Golden Door\nMarch 18 – My American Girls\nMarch 25 – The Search for General Tso\n\nThe Hopewell Museum will be showing each film followed by a brief discussion in partnership with the Paris-Bourbon County Library. This film series is supported by the exhibit: Becoming American: The Immigrant Experience in Bourbon County\, Kentucky on display at the Hopewell Museum February 10-May 30.
URL:https://www.hopewellmuseum.org/event/becoming-american-film-series-2019-03-25/
LOCATION:Paris-Bourbon County Public Library\,  701 High St\, Paris\, KY\, 40361\, United States
END:VEVENT
BEGIN:VEVENT
DTSTART;TZID=UTC:20190321T160000
DTEND;TZID=UTC:20190321T170000
DTSTAMP:20260419T225032
CREATED:20190119T233413Z
LAST-MODIFIED:20190120T010445Z
UID:1434-1553184000-1553187600@www.hopewellmuseum.org
SUMMARY:Teen Art Studio
DESCRIPTION:Create your own artwork every Thursday at the Museum! In partnership with Paris-Bourbon County Library. Sponsored by The Cralle Foundation & Micah Campbell—Kentucky Farm Bureau\, Bourbon County. Free\, with snacks & supplies included. No Teen Art Studio in January & December.
URL:https://www.hopewellmuseum.org/event/teen-art-studio-8-2019-03-21/
LOCATION:Hopewell Museum
END:VEVENT
BEGIN:VEVENT
DTSTART;TZID=UTC:20190318T190000
DTEND;TZID=UTC:20190318T210000
DTSTAMP:20260419T225032
CREATED:20190120T001947Z
LAST-MODIFIED:20190120T003420Z
UID:1517-1552935600-1552942800@www.hopewellmuseum.org
SUMMARY:Becoming American Film Series (See Event Details for Film List)
DESCRIPTION:Becoming American is a six-week series of public programs created by City Lore in partnership with the Immigration and Ethnic History Society and the International Coalition of Sites of Conscience. Major funding for the project has been provided by the National Endowment for the Humanities. Find out more at www.becoming-american.org. \nAll films will be shown at the Paris-Bourbon County Library Community Room\, 7-9 PM. Free & open to the public. \n\nFebruary 11 – New York\, A Documentary Film and The Jewish Americans\nFebruary 18 – Welcome to Shelbyville [Tennessee]\nMarch 4 – The New Americans: The Nigerians\nMarch 11 – Destination America: The Golden Door\nMarch 18 – My American Girls\nMarch 25 – The Search for General Tso\n\nThe Hopewell Museum will be showing each film followed by a brief discussion in partnership with the Paris-Bourbon County Library. This film series is supported by the exhibit: Becoming American: The Immigrant Experience in Bourbon County\, Kentucky on display at the Hopewell Museum February 10-May 30.
URL:https://www.hopewellmuseum.org/event/becoming-american-film-series-2019-03-18/
LOCATION:Paris-Bourbon County Public Library\,  701 High St\, Paris\, KY\, 40361\, United States
END:VEVENT
BEGIN:VEVENT
DTSTART;TZID=UTC:20190314T160000
DTEND;TZID=UTC:20190314T170000
DTSTAMP:20260419T225032
CREATED:20190119T233413Z
LAST-MODIFIED:20190120T010445Z
UID:1433-1552579200-1552582800@www.hopewellmuseum.org
SUMMARY:Teen Art Studio
DESCRIPTION:Create your own artwork every Thursday at the Museum! In partnership with Paris-Bourbon County Library. Sponsored by The Cralle Foundation & Micah Campbell—Kentucky Farm Bureau\, Bourbon County. Free\, with snacks & supplies included. No Teen Art Studio in January & December.
URL:https://www.hopewellmuseum.org/event/teen-art-studio-8-2019-03-14/
LOCATION:Hopewell Museum
END:VEVENT
BEGIN:VEVENT
DTSTART;TZID=UTC:20190311T190000
DTEND;TZID=UTC:20190311T210000
DTSTAMP:20260419T225032
CREATED:20190120T001947Z
LAST-MODIFIED:20190120T003420Z
UID:1516-1552330800-1552338000@www.hopewellmuseum.org
SUMMARY:Becoming American Film Series (See Event Details for Film List)
DESCRIPTION:Becoming American is a six-week series of public programs created by City Lore in partnership with the Immigration and Ethnic History Society and the International Coalition of Sites of Conscience. Major funding for the project has been provided by the National Endowment for the Humanities. Find out more at www.becoming-american.org. \nAll films will be shown at the Paris-Bourbon County Library Community Room\, 7-9 PM. Free & open to the public. \n\nFebruary 11 – New York\, A Documentary Film and The Jewish Americans\nFebruary 18 – Welcome to Shelbyville [Tennessee]\nMarch 4 – The New Americans: The Nigerians\nMarch 11 – Destination America: The Golden Door\nMarch 18 – My American Girls\nMarch 25 – The Search for General Tso\n\nThe Hopewell Museum will be showing each film followed by a brief discussion in partnership with the Paris-Bourbon County Library. This film series is supported by the exhibit: Becoming American: The Immigrant Experience in Bourbon County\, Kentucky on display at the Hopewell Museum February 10-May 30.
URL:https://www.hopewellmuseum.org/event/becoming-american-film-series-2019-03-11/
LOCATION:Paris-Bourbon County Public Library\,  701 High St\, Paris\, KY\, 40361\, United States
END:VEVENT
END:VCALENDAR