BEGIN:VCALENDAR
VERSION:2.0
PRODID:-//Hopewell Museum - ECPv6.15.17.1//NONSGML v1.0//EN
CALSCALE:GREGORIAN
METHOD:PUBLISH
X-WR-CALNAME:Hopewell Museum
X-ORIGINAL-URL:https://www.hopewellmuseum.org
X-WR-CALDESC:Events for Hopewell Museum
REFRESH-INTERVAL;VALUE=DURATION:PT1H
X-Robots-Tag:noindex
X-PUBLISHED-TTL:PT1H
BEGIN:VTIMEZONE
TZID:UTC
BEGIN:STANDARD
TZOFFSETFROM:+0000
TZOFFSETTO:+0000
TZNAME:UTC
DTSTART:20170101T000000
END:STANDARD
END:VTIMEZONE
BEGIN:VEVENT
DTSTART;TZID=UTC:20190418T160000
DTEND;TZID=UTC:20190418T170000
DTSTAMP:20260419T190605
CREATED:20190119T233413Z
LAST-MODIFIED:20190120T010447Z
UID:1438-1555603200-1555606800@www.hopewellmuseum.org
SUMMARY:Teen Art Studio
DESCRIPTION:Create your own artwork every Thursday at the Museum! In partnership with Paris-Bourbon County Library. Sponsored by The Cralle Foundation & Micah Campbell—Kentucky Farm Bureau\, Bourbon County. Free\, with snacks & supplies included. No Teen Art Studio in January & December.
URL:https://www.hopewellmuseum.org/event/teen-art-studio-8-2019-04-18/
LOCATION:Hopewell Museum
END:VEVENT
BEGIN:VEVENT
DTSTART;TZID=UTC:20190412T170000
DTEND;TZID=UTC:20190412T210000
DTSTAMP:20260419T190605
CREATED:20190119T234455Z
LAST-MODIFIED:20190119T234455Z
UID:1476-1555088400-1555102800@www.hopewellmuseum.org
SUMMARY:Paris ARTWALK
DESCRIPTION:A look at regional artists’ works throughout downtown Paris & at the Hopewell Museum. Featured artist is Sarah Spradlin. Light refreshments. Free & open to the public.
URL:https://www.hopewellmuseum.org/event/paris-artwalk-5/
LOCATION:Hopewell Museum
END:VEVENT
BEGIN:VEVENT
DTSTART;TZID=UTC:20190411T160000
DTEND;TZID=UTC:20190411T170000
DTSTAMP:20260419T190605
CREATED:20190119T233413Z
LAST-MODIFIED:20190120T010445Z
UID:1437-1554998400-1555002000@www.hopewellmuseum.org
SUMMARY:Teen Art Studio
DESCRIPTION:Create your own artwork every Thursday at the Museum! In partnership with Paris-Bourbon County Library. Sponsored by The Cralle Foundation & Micah Campbell—Kentucky Farm Bureau\, Bourbon County. Free\, with snacks & supplies included. No Teen Art Studio in January & December.
URL:https://www.hopewellmuseum.org/event/teen-art-studio-8-2019-04-11/
LOCATION:Hopewell Museum
END:VEVENT
BEGIN:VEVENT
DTSTART;TZID=UTC:20190404T160000
DTEND;TZID=UTC:20190404T170000
DTSTAMP:20260419T190605
CREATED:20190119T233413Z
LAST-MODIFIED:20190120T010445Z
UID:1436-1554393600-1554397200@www.hopewellmuseum.org
SUMMARY:Teen Art Studio
DESCRIPTION:Create your own artwork every Thursday at the Museum! In partnership with Paris-Bourbon County Library. Sponsored by The Cralle Foundation & Micah Campbell—Kentucky Farm Bureau\, Bourbon County. Free\, with snacks & supplies included. No Teen Art Studio in January & December.
URL:https://www.hopewellmuseum.org/event/teen-art-studio-8-2019-04-04/
LOCATION:Hopewell Museum
END:VEVENT
BEGIN:VEVENT
DTSTART;TZID=UTC:20190328T160000
DTEND;TZID=UTC:20190328T170000
DTSTAMP:20260419T190605
CREATED:20190119T233413Z
LAST-MODIFIED:20190120T010445Z
UID:1435-1553788800-1553792400@www.hopewellmuseum.org
SUMMARY:Teen Art Studio
DESCRIPTION:Create your own artwork every Thursday at the Museum! In partnership with Paris-Bourbon County Library. Sponsored by The Cralle Foundation & Micah Campbell—Kentucky Farm Bureau\, Bourbon County. Free\, with snacks & supplies included. No Teen Art Studio in January & December.
URL:https://www.hopewellmuseum.org/event/teen-art-studio-8-2019-03-28/
LOCATION:Hopewell Museum
END:VEVENT
BEGIN:VEVENT
DTSTART;TZID=UTC:20190325T190000
DTEND;TZID=UTC:20190325T210000
DTSTAMP:20260419T190605
CREATED:20190120T001947Z
LAST-MODIFIED:20190120T003420Z
UID:1518-1553540400-1553547600@www.hopewellmuseum.org
SUMMARY:Becoming American Film Series (See Event Details for Film List)
DESCRIPTION:Becoming American is a six-week series of public programs created by City Lore in partnership with the Immigration and Ethnic History Society and the International Coalition of Sites of Conscience. Major funding for the project has been provided by the National Endowment for the Humanities. Find out more at www.becoming-american.org. \nAll films will be shown at the Paris-Bourbon County Library Community Room\, 7-9 PM. Free & open to the public. \n\nFebruary 11 – New York\, A Documentary Film and The Jewish Americans\nFebruary 18 – Welcome to Shelbyville [Tennessee]\nMarch 4 – The New Americans: The Nigerians\nMarch 11 – Destination America: The Golden Door\nMarch 18 – My American Girls\nMarch 25 – The Search for General Tso\n\nThe Hopewell Museum will be showing each film followed by a brief discussion in partnership with the Paris-Bourbon County Library. This film series is supported by the exhibit: Becoming American: The Immigrant Experience in Bourbon County\, Kentucky on display at the Hopewell Museum February 10-May 30.
URL:https://www.hopewellmuseum.org/event/becoming-american-film-series-2019-03-25/
LOCATION:Paris-Bourbon County Public Library\,  701 High St\, Paris\, KY\, 40361\, United States
END:VEVENT
BEGIN:VEVENT
DTSTART;TZID=UTC:20190321T160000
DTEND;TZID=UTC:20190321T170000
DTSTAMP:20260419T190605
CREATED:20190119T233413Z
LAST-MODIFIED:20190120T010445Z
UID:1434-1553184000-1553187600@www.hopewellmuseum.org
SUMMARY:Teen Art Studio
DESCRIPTION:Create your own artwork every Thursday at the Museum! In partnership with Paris-Bourbon County Library. Sponsored by The Cralle Foundation & Micah Campbell—Kentucky Farm Bureau\, Bourbon County. Free\, with snacks & supplies included. No Teen Art Studio in January & December.
URL:https://www.hopewellmuseum.org/event/teen-art-studio-8-2019-03-21/
LOCATION:Hopewell Museum
END:VEVENT
BEGIN:VEVENT
DTSTART;TZID=UTC:20190318T190000
DTEND;TZID=UTC:20190318T210000
DTSTAMP:20260419T190605
CREATED:20190120T001947Z
LAST-MODIFIED:20190120T003420Z
UID:1517-1552935600-1552942800@www.hopewellmuseum.org
SUMMARY:Becoming American Film Series (See Event Details for Film List)
DESCRIPTION:Becoming American is a six-week series of public programs created by City Lore in partnership with the Immigration and Ethnic History Society and the International Coalition of Sites of Conscience. Major funding for the project has been provided by the National Endowment for the Humanities. Find out more at www.becoming-american.org. \nAll films will be shown at the Paris-Bourbon County Library Community Room\, 7-9 PM. Free & open to the public. \n\nFebruary 11 – New York\, A Documentary Film and The Jewish Americans\nFebruary 18 – Welcome to Shelbyville [Tennessee]\nMarch 4 – The New Americans: The Nigerians\nMarch 11 – Destination America: The Golden Door\nMarch 18 – My American Girls\nMarch 25 – The Search for General Tso\n\nThe Hopewell Museum will be showing each film followed by a brief discussion in partnership with the Paris-Bourbon County Library. This film series is supported by the exhibit: Becoming American: The Immigrant Experience in Bourbon County\, Kentucky on display at the Hopewell Museum February 10-May 30.
URL:https://www.hopewellmuseum.org/event/becoming-american-film-series-2019-03-18/
LOCATION:Paris-Bourbon County Public Library\,  701 High St\, Paris\, KY\, 40361\, United States
END:VEVENT
BEGIN:VEVENT
DTSTART;TZID=UTC:20190314T160000
DTEND;TZID=UTC:20190314T170000
DTSTAMP:20260419T190605
CREATED:20190119T233413Z
LAST-MODIFIED:20190120T010445Z
UID:1433-1552579200-1552582800@www.hopewellmuseum.org
SUMMARY:Teen Art Studio
DESCRIPTION:Create your own artwork every Thursday at the Museum! In partnership with Paris-Bourbon County Library. Sponsored by The Cralle Foundation & Micah Campbell—Kentucky Farm Bureau\, Bourbon County. Free\, with snacks & supplies included. No Teen Art Studio in January & December.
URL:https://www.hopewellmuseum.org/event/teen-art-studio-8-2019-03-14/
LOCATION:Hopewell Museum
END:VEVENT
BEGIN:VEVENT
DTSTART;TZID=UTC:20190311T190000
DTEND;TZID=UTC:20190311T210000
DTSTAMP:20260419T190605
CREATED:20190120T001947Z
LAST-MODIFIED:20190120T003420Z
UID:1516-1552330800-1552338000@www.hopewellmuseum.org
SUMMARY:Becoming American Film Series (See Event Details for Film List)
DESCRIPTION:Becoming American is a six-week series of public programs created by City Lore in partnership with the Immigration and Ethnic History Society and the International Coalition of Sites of Conscience. Major funding for the project has been provided by the National Endowment for the Humanities. Find out more at www.becoming-american.org. \nAll films will be shown at the Paris-Bourbon County Library Community Room\, 7-9 PM. Free & open to the public. \n\nFebruary 11 – New York\, A Documentary Film and The Jewish Americans\nFebruary 18 – Welcome to Shelbyville [Tennessee]\nMarch 4 – The New Americans: The Nigerians\nMarch 11 – Destination America: The Golden Door\nMarch 18 – My American Girls\nMarch 25 – The Search for General Tso\n\nThe Hopewell Museum will be showing each film followed by a brief discussion in partnership with the Paris-Bourbon County Library. This film series is supported by the exhibit: Becoming American: The Immigrant Experience in Bourbon County\, Kentucky on display at the Hopewell Museum February 10-May 30.
URL:https://www.hopewellmuseum.org/event/becoming-american-film-series-2019-03-11/
LOCATION:Paris-Bourbon County Public Library\,  701 High St\, Paris\, KY\, 40361\, United States
END:VEVENT
BEGIN:VEVENT
DTSTART;TZID=UTC:20190307T160000
DTEND;TZID=UTC:20190307T170000
DTSTAMP:20260419T190605
CREATED:20190119T233413Z
LAST-MODIFIED:20190120T010445Z
UID:1432-1551974400-1551978000@www.hopewellmuseum.org
SUMMARY:Teen Art Studio
DESCRIPTION:Create your own artwork every Thursday at the Museum! In partnership with Paris-Bourbon County Library. Sponsored by The Cralle Foundation & Micah Campbell—Kentucky Farm Bureau\, Bourbon County. Free\, with snacks & supplies included. No Teen Art Studio in January & December.
URL:https://www.hopewellmuseum.org/event/teen-art-studio-8-2019-03-07/
LOCATION:Hopewell Museum
END:VEVENT
BEGIN:VEVENT
DTSTART;TZID=UTC:20190304T190000
DTEND;TZID=UTC:20190304T210000
DTSTAMP:20260419T190605
CREATED:20190120T001947Z
LAST-MODIFIED:20190120T003420Z
UID:1515-1551726000-1551733200@www.hopewellmuseum.org
SUMMARY:Becoming American Film Series (See Event Details for Film List)
DESCRIPTION:Becoming American is a six-week series of public programs created by City Lore in partnership with the Immigration and Ethnic History Society and the International Coalition of Sites of Conscience. Major funding for the project has been provided by the National Endowment for the Humanities. Find out more at www.becoming-american.org. \nAll films will be shown at the Paris-Bourbon County Library Community Room\, 7-9 PM. Free & open to the public. \n\nFebruary 11 – New York\, A Documentary Film and The Jewish Americans\nFebruary 18 – Welcome to Shelbyville [Tennessee]\nMarch 4 – The New Americans: The Nigerians\nMarch 11 – Destination America: The Golden Door\nMarch 18 – My American Girls\nMarch 25 – The Search for General Tso\n\nThe Hopewell Museum will be showing each film followed by a brief discussion in partnership with the Paris-Bourbon County Library. This film series is supported by the exhibit: Becoming American: The Immigrant Experience in Bourbon County\, Kentucky on display at the Hopewell Museum February 10-May 30.
URL:https://www.hopewellmuseum.org/event/becoming-american-film-series-2019-03-04/
LOCATION:Paris-Bourbon County Public Library\,  701 High St\, Paris\, KY\, 40361\, United States
END:VEVENT
BEGIN:VEVENT
DTSTART;TZID=UTC:20190228T160000
DTEND;TZID=UTC:20190228T170000
DTSTAMP:20260419T190605
CREATED:20190119T233413Z
LAST-MODIFIED:20190120T010445Z
UID:1431-1551369600-1551373200@www.hopewellmuseum.org
SUMMARY:Teen Art Studio
DESCRIPTION:Create your own artwork every Thursday at the Museum! In partnership with Paris-Bourbon County Library. Sponsored by The Cralle Foundation & Micah Campbell—Kentucky Farm Bureau\, Bourbon County. Free\, with snacks & supplies included. No Teen Art Studio in January & December.
URL:https://www.hopewellmuseum.org/event/teen-art-studio-8-2019-02-28/
LOCATION:Hopewell Museum
END:VEVENT
BEGIN:VEVENT
DTSTART;TZID=UTC:20190221T160000
DTEND;TZID=UTC:20190221T170000
DTSTAMP:20260419T190605
CREATED:20190119T233413Z
LAST-MODIFIED:20190120T010445Z
UID:1430-1550764800-1550768400@www.hopewellmuseum.org
SUMMARY:Teen Art Studio
DESCRIPTION:Create your own artwork every Thursday at the Museum! In partnership with Paris-Bourbon County Library. Sponsored by The Cralle Foundation & Micah Campbell—Kentucky Farm Bureau\, Bourbon County. Free\, with snacks & supplies included. No Teen Art Studio in January & December.
URL:https://www.hopewellmuseum.org/event/teen-art-studio-8-2019-02-21/
LOCATION:Hopewell Museum
END:VEVENT
BEGIN:VEVENT
DTSTART;TZID=UTC:20190220T100000
DTEND;TZID=UTC:20190220T110000
DTSTAMP:20260419T190605
CREATED:20190119T234402Z
LAST-MODIFIED:20190119T234402Z
UID:1474-1550656800-1550660400@www.hopewellmuseum.org
SUMMARY:Docent Appreciation Coffee
DESCRIPTION:Join us for coffee and an introduction to the new exhibit and brief training refresher. Free for current docents.
URL:https://www.hopewellmuseum.org/event/docent-appreciation-coffee/
LOCATION:Hopewell Museum
END:VEVENT
BEGIN:VEVENT
DTSTART;TZID=UTC:20190218T190000
DTEND;TZID=UTC:20190218T210000
DTSTAMP:20260419T190605
CREATED:20190120T001947Z
LAST-MODIFIED:20190120T003420Z
UID:1513-1550516400-1550523600@www.hopewellmuseum.org
SUMMARY:Becoming American Film Series (See Event Details for Film List)
DESCRIPTION:Becoming American is a six-week series of public programs created by City Lore in partnership with the Immigration and Ethnic History Society and the International Coalition of Sites of Conscience. Major funding for the project has been provided by the National Endowment for the Humanities. Find out more at www.becoming-american.org. \nAll films will be shown at the Paris-Bourbon County Library Community Room\, 7-9 PM. Free & open to the public. \n\nFebruary 11 – New York\, A Documentary Film and The Jewish Americans\nFebruary 18 – Welcome to Shelbyville [Tennessee]\nMarch 4 – The New Americans: The Nigerians\nMarch 11 – Destination America: The Golden Door\nMarch 18 – My American Girls\nMarch 25 – The Search for General Tso\n\nThe Hopewell Museum will be showing each film followed by a brief discussion in partnership with the Paris-Bourbon County Library. This film series is supported by the exhibit: Becoming American: The Immigrant Experience in Bourbon County\, Kentucky on display at the Hopewell Museum February 10-May 30.
URL:https://www.hopewellmuseum.org/event/becoming-american-film-series-2019-02-18/
LOCATION:Paris-Bourbon County Public Library\,  701 High St\, Paris\, KY\, 40361\, United States
END:VEVENT
BEGIN:VEVENT
DTSTART;TZID=UTC:20190217T150000
DTEND;TZID=UTC:20190217T160000
DTSTAMP:20260419T190605
CREATED:20190119T234316Z
LAST-MODIFIED:20190119T234316Z
UID:1472-1550415600-1550419200@www.hopewellmuseum.org
SUMMARY:Kentucky Humanities Council Chautauqua Speaker “William Wells Brown”
DESCRIPTION:Virgil Covington\, Jr. will perform as William Wells Brown\, an African-American abolitionist\, born in slavery in Montgomery County. Part of our Black History Month programming in partnership with the Paris-Bourbon County Library. Free & open to the public.
URL:https://www.hopewellmuseum.org/event/kentucky-humanities-council-chautauqua-speaker-william-wells-brown/
LOCATION:Hopewell Museum
END:VEVENT
BEGIN:VEVENT
DTSTART;TZID=UTC:20190215T100000
DTEND;TZID=UTC:20190215T110000
DTSTAMP:20260419T190605
CREATED:20190119T234214Z
LAST-MODIFIED:20190120T005044Z
UID:1470-1550224800-1550228400@www.hopewellmuseum.org
SUMMARY:“The Third Great Migration of African-Americans”
DESCRIPTION:Join Sharon Fields for a brief talk followed by a Q&A at the Paris-Bourbon County Library. Part of our Black History Month programming in partnership with the Paris-Bourbon County Library. Free & open to the public.
URL:https://www.hopewellmuseum.org/event/the-third-great-migration-of-african-americans/
LOCATION:Paris-Bourbon County Public Library\,  701 High St\, Paris\, KY\, 40361\, United States
END:VEVENT
BEGIN:VEVENT
DTSTART;TZID=UTC:20190214T160000
DTEND;TZID=UTC:20190214T170000
DTSTAMP:20260419T190605
CREATED:20190119T233413Z
LAST-MODIFIED:20190120T010444Z
UID:1429-1550160000-1550163600@www.hopewellmuseum.org
SUMMARY:Teen Art Studio
DESCRIPTION:Create your own artwork every Thursday at the Museum! In partnership with Paris-Bourbon County Library. Sponsored by The Cralle Foundation & Micah Campbell—Kentucky Farm Bureau\, Bourbon County. Free\, with snacks & supplies included. No Teen Art Studio in January & December.
URL:https://www.hopewellmuseum.org/event/teen-art-studio-8-2019-02-14/
LOCATION:Hopewell Museum
END:VEVENT
BEGIN:VEVENT
DTSTART;TZID=UTC:20190211T190000
DTEND;TZID=UTC:20190211T210000
DTSTAMP:20260419T190605
CREATED:20190120T001947Z
LAST-MODIFIED:20190120T003419Z
UID:1511-1549911600-1549918800@www.hopewellmuseum.org
SUMMARY:Becoming American Film Series (See Event Details for Film List)
DESCRIPTION:Becoming American is a six-week series of public programs created by City Lore in partnership with the Immigration and Ethnic History Society and the International Coalition of Sites of Conscience. Major funding for the project has been provided by the National Endowment for the Humanities. Find out more at www.becoming-american.org. \nAll films will be shown at the Paris-Bourbon County Library Community Room\, 7-9 PM. Free & open to the public. \n\nFebruary 11 – New York\, A Documentary Film and The Jewish Americans\nFebruary 18 – Welcome to Shelbyville [Tennessee]\nMarch 4 – The New Americans: The Nigerians\nMarch 11 – Destination America: The Golden Door\nMarch 18 – My American Girls\nMarch 25 – The Search for General Tso\n\nThe Hopewell Museum will be showing each film followed by a brief discussion in partnership with the Paris-Bourbon County Library. This film series is supported by the exhibit: Becoming American: The Immigrant Experience in Bourbon County\, Kentucky on display at the Hopewell Museum February 10-May 30.
URL:https://www.hopewellmuseum.org/event/becoming-american-film-series/
LOCATION:Paris-Bourbon County Public Library\,  701 High St\, Paris\, KY\, 40361\, United States
END:VEVENT
BEGIN:VEVENT
DTSTART;TZID=UTC:20190210T140000
DTEND;TZID=UTC:20190210T160000
DTSTAMP:20260419T190605
CREATED:20190120T001216Z
LAST-MODIFIED:20190120T001216Z
UID:1505-1549807200-1549814400@www.hopewellmuseum.org
SUMMARY:Exhibit Opening: Becoming American: The Immigrant Experience in Bourbon County\, Kentucky
DESCRIPTION:This exhibit highlights stories of immigrants in Bourbon County. Curated by Margaret Spratt\, Ph.D. Sponsored by the Josephine Ardery Foundation and Kentucky Bank. On display through May 30.
URL:https://www.hopewellmuseum.org/event/exhibit-opening-becoming-american-the-immigrant-experience-in-bourbon-county-kentucky/
LOCATION:Hopewell Museum
END:VEVENT
BEGIN:VEVENT
DTSTART;TZID=UTC:20190207T160000
DTEND;TZID=UTC:20190207T170000
DTSTAMP:20260419T190605
CREATED:20190119T233413Z
LAST-MODIFIED:20190120T010444Z
UID:1427-1549555200-1549558800@www.hopewellmuseum.org
SUMMARY:Teen Art Studio
DESCRIPTION:Create your own artwork every Thursday at the Museum! In partnership with Paris-Bourbon County Library. Sponsored by The Cralle Foundation & Micah Campbell—Kentucky Farm Bureau\, Bourbon County. Free\, with snacks & supplies included. No Teen Art Studio in January & December.
URL:https://www.hopewellmuseum.org/event/teen-art-studio-8/
LOCATION:Hopewell Museum
END:VEVENT
BEGIN:VEVENT
DTSTART;TZID=UTC:20181208T170000
DTEND;TZID=UTC:20181208T190000
DTSTAMP:20260419T190605
CREATED:20180131T024318Z
LAST-MODIFIED:20181210T234408Z
UID:1203-1544288400-1544295600@www.hopewellmuseum.org
SUMMARY:Christmas Party
DESCRIPTION:Enjoy a festive evening with friends\, heavy hors d’oeuvres\, & drinks! RSVP Required by Dec. 5th. Members $35/non-members $40/U40$30. Proceeds benefit education programs.
URL:https://www.hopewellmuseum.org/event/christmas-party/
LOCATION:Hopewell Museum
END:VEVENT
BEGIN:VEVENT
DTSTART;TZID=UTC:20181202T140000
DTEND;TZID=UTC:20181202T160000
DTSTAMP:20260419T190605
CREATED:20180131T024226Z
LAST-MODIFIED:20180131T024226Z
UID:1201-1543759200-1543766400@www.hopewellmuseum.org
SUMMARY:Santa at the Museum
DESCRIPTION:Meet Santa and his Museum helpers for free photos\, crafts\, and cookies. Free for kids of all ages and open to the public. *Families of children with special needs may schedule an appointment between 1:30-2:00 PM. Sponsored by Kentucky Bank.
URL:https://www.hopewellmuseum.org/event/santa-at-the-museum-2/
LOCATION:Hopewell Museum
END:VEVENT
BEGIN:VEVENT
DTSTART;TZID=UTC:20181129T160000
DTEND;TZID=UTC:20181129T170000
DTSTAMP:20260419T190605
CREATED:20180131T013419Z
LAST-MODIFIED:20180131T013419Z
UID:1150-1543507200-1543510800@www.hopewellmuseum.org
SUMMARY:Teen Art Studio
DESCRIPTION:Teens in middle & high school\, come to the Museum to create your own artwork! Free\, with snacks & supplies included. This event is in partnership with Paris-Bourbon County Public Library & sponsored by The Cralle Foundation & Micah Campbell Bourbon Co. Farm Bureau. No Teen Art Studio in January & December.
URL:https://www.hopewellmuseum.org/event/teen-art-studio-7-2018-11-29/
END:VEVENT
BEGIN:VEVENT
DTSTART;TZID=UTC:20181117T140000
DTEND;TZID=UTC:20181117T150000
DTSTAMP:20260419T190605
CREATED:20180131T013053Z
LAST-MODIFIED:20180131T013053Z
UID:1104-1542463200-1542466800@www.hopewellmuseum.org
SUMMARY:Free Fun Hour
DESCRIPTION:Gingerbread Houses with Fonda Eigel \nHands-on art & history activities. Free Fun Hour program & Museum admission is free on these dates. Activities subject to change.  Pre-registration requested\, space is limited. No activities in January & December. Children must be accompanied by an adult. Register for events at info@hopewellmuseum.org or 859-987-7274.
URL:https://www.hopewellmuseum.org/event/free-fun-hour-7/
LOCATION:Hopewell Museum
END:VEVENT
BEGIN:VEVENT
DTSTART;TZID=UTC:20181115T180000
DTEND;TZID=UTC:20181115T200000
DTSTAMP:20260419T190605
CREATED:20180131T024132Z
LAST-MODIFIED:20180131T024132Z
UID:1199-1542304800-1542312000@www.hopewellmuseum.org
SUMMARY:Annual Membership Meeting & Soup Supper
DESCRIPTION:Free & open to members. 7 PM Lecture by James C. Klotter\, PhD. A lecture by State Historian based on his recent Oxford University Press book; presented at the Annual Membership Meeting and Soup Supper. Lecture is free & open to the public.
URL:https://www.hopewellmuseum.org/event/annual-membership-meeting-soup-supper-2/
LOCATION:Hopewell Museum
END:VEVENT
BEGIN:VEVENT
DTSTART;TZID=UTC:20181115T160000
DTEND;TZID=UTC:20181115T170000
DTSTAMP:20260419T190605
CREATED:20180131T013419Z
LAST-MODIFIED:20180131T013419Z
UID:1148-1542297600-1542301200@www.hopewellmuseum.org
SUMMARY:Teen Art Studio
DESCRIPTION:Teens in middle & high school\, come to the Museum to create your own artwork! Free\, with snacks & supplies included. This event is in partnership with Paris-Bourbon County Public Library & sponsored by The Cralle Foundation & Micah Campbell Bourbon Co. Farm Bureau. No Teen Art Studio in January & December.
URL:https://www.hopewellmuseum.org/event/teen-art-studio-7-2018-11-15/
END:VEVENT
BEGIN:VEVENT
DTSTART;TZID=UTC:20181108T160000
DTEND;TZID=UTC:20181108T170000
DTSTAMP:20260419T190605
CREATED:20180131T013419Z
LAST-MODIFIED:20180131T013419Z
UID:1147-1541692800-1541696400@www.hopewellmuseum.org
SUMMARY:Teen Art Studio
DESCRIPTION:Teens in middle & high school\, come to the Museum to create your own artwork! Free\, with snacks & supplies included. This event is in partnership with Paris-Bourbon County Public Library & sponsored by The Cralle Foundation & Micah Campbell Bourbon Co. Farm Bureau. No Teen Art Studio in January & December.
URL:https://www.hopewellmuseum.org/event/teen-art-studio-7-2018-11-08/
END:VEVENT
BEGIN:VEVENT
DTSTART;TZID=UTC:20181101T160000
DTEND;TZID=UTC:20181101T170000
DTSTAMP:20260419T190605
CREATED:20180131T013419Z
LAST-MODIFIED:20180131T013419Z
UID:1146-1541088000-1541091600@www.hopewellmuseum.org
SUMMARY:Teen Art Studio
DESCRIPTION:Teens in middle & high school\, come to the Museum to create your own artwork! Free\, with snacks & supplies included. This event is in partnership with Paris-Bourbon County Public Library & sponsored by The Cralle Foundation & Micah Campbell Bourbon Co. Farm Bureau. No Teen Art Studio in January & December.
URL:https://www.hopewellmuseum.org/event/teen-art-studio-7-2018-11-01/
END:VEVENT
END:VCALENDAR