BEGIN:VCALENDAR
VERSION:2.0
PRODID:-//Hopewell Museum - ECPv6.15.17.1//NONSGML v1.0//EN
CALSCALE:GREGORIAN
METHOD:PUBLISH
X-WR-CALNAME:Hopewell Museum
X-ORIGINAL-URL:https://www.hopewellmuseum.org
X-WR-CALDESC:Events for Hopewell Museum
REFRESH-INTERVAL;VALUE=DURATION:PT1H
X-Robots-Tag:noindex
X-PUBLISHED-TTL:PT1H
BEGIN:VTIMEZONE
TZID:America/New_York
BEGIN:DAYLIGHT
TZOFFSETFROM:-0500
TZOFFSETTO:-0400
TZNAME:EDT
DTSTART:20250309T070000
END:DAYLIGHT
BEGIN:STANDARD
TZOFFSETFROM:-0400
TZOFFSETTO:-0500
TZNAME:EST
DTSTART:20251102T060000
END:STANDARD
BEGIN:DAYLIGHT
TZOFFSETFROM:-0500
TZOFFSETTO:-0400
TZNAME:EDT
DTSTART:20260308T070000
END:DAYLIGHT
BEGIN:STANDARD
TZOFFSETFROM:-0400
TZOFFSETTO:-0500
TZNAME:EST
DTSTART:20261101T060000
END:STANDARD
BEGIN:DAYLIGHT
TZOFFSETFROM:-0500
TZOFFSETTO:-0400
TZNAME:EDT
DTSTART:20270314T070000
END:DAYLIGHT
BEGIN:STANDARD
TZOFFSETFROM:-0400
TZOFFSETTO:-0500
TZNAME:EST
DTSTART:20271107T060000
END:STANDARD
END:VTIMEZONE
BEGIN:VEVENT
DTSTART;TZID=America/New_York:20260814T183000
DTEND;TZID=America/New_York:20260814T203000
DTSTAMP:20260419T185403
CREATED:20260128T231903Z
LAST-MODIFIED:20260128T231903Z
UID:5623-1786732200-1786739400@www.hopewellmuseum.org
SUMMARY:Mary Spears Van Meter Historic Preservation Dinner
DESCRIPTION:
URL:https://www.hopewellmuseum.org/event/mary-spears-van-meter-historic-preservation-dinner-2/
LOCATION:KY
END:VEVENT
BEGIN:VEVENT
DTSTART;TZID=America/New_York:20260918T173000
DTEND;TZID=America/New_York:20260918T193000
DTSTAMP:20260419T185403
CREATED:20260128T232003Z
LAST-MODIFIED:20260128T232003Z
UID:5625-1789752600-1789759800@www.hopewellmuseum.org
SUMMARY:Creative Harvest Exhibit Opening
DESCRIPTION:
URL:https://www.hopewellmuseum.org/event/creative-harvest-exhibit-opening-5/
LOCATION:Hopewell Museum
END:VEVENT
BEGIN:VEVENT
DTSTART;TZID=America/New_York:20261112T180000
DTEND;TZID=America/New_York:20261112T200000
DTSTAMP:20260419T185403
CREATED:20260128T232045Z
LAST-MODIFIED:20260128T232045Z
UID:5627-1794506400-1794513600@www.hopewellmuseum.org
SUMMARY:Annual Membership Dinner (Soup Supper)
DESCRIPTION:
URL:https://www.hopewellmuseum.org/event/annual-membership-dinner-soup-supper/
LOCATION:Hopewell Museum
END:VEVENT
BEGIN:VEVENT
DTSTART;TZID=America/New_York:20261206T140000
DTEND;TZID=America/New_York:20261206T160000
DTSTAMP:20260419T185403
CREATED:20260128T232338Z
LAST-MODIFIED:20260128T232338Z
UID:5631-1796565600-1796572800@www.hopewellmuseum.org
SUMMARY:Cookies with Santa
DESCRIPTION:Join us for our annual Cookies with Santa event at Hopewell Museum. Hours are 2 p.m. until 4 p.m. for general admission and 1 p.m. until 2 p.m. for sensory-friendly hours.
URL:https://www.hopewellmuseum.org/event/cookies-with-santa-3/
LOCATION:Hopewell Museum
END:VEVENT
BEGIN:VEVENT
DTSTART;TZID=America/New_York:20261211T180000
DTEND;TZID=America/New_York:20261211T200000
DTSTAMP:20260419T185403
CREATED:20260128T232145Z
LAST-MODIFIED:20260128T232145Z
UID:5629-1797012000-1797019200@www.hopewellmuseum.org
SUMMARY:Holiday Party
DESCRIPTION:
URL:https://www.hopewellmuseum.org/event/holiday-party-3/
LOCATION:Hopewell Museum
END:VEVENT
END:VCALENDAR