BEGIN:VCALENDAR
VERSION:2.0
PRODID:-//Hopewell Museum - ECPv6.15.17.1//NONSGML v1.0//EN
CALSCALE:GREGORIAN
METHOD:PUBLISH
X-WR-CALNAME:Hopewell Museum
X-ORIGINAL-URL:https://www.hopewellmuseum.org
X-WR-CALDESC:Events for Hopewell Museum
REFRESH-INTERVAL;VALUE=DURATION:PT1H
X-Robots-Tag:noindex
X-PUBLISHED-TTL:PT1H
BEGIN:VTIMEZONE
TZID:America/New_York
BEGIN:DAYLIGHT
TZOFFSETFROM:-0500
TZOFFSETTO:-0400
TZNAME:EDT
DTSTART:20200308T070000
END:DAYLIGHT
BEGIN:STANDARD
TZOFFSETFROM:-0400
TZOFFSETTO:-0500
TZNAME:EST
DTSTART:20201101T060000
END:STANDARD
BEGIN:DAYLIGHT
TZOFFSETFROM:-0500
TZOFFSETTO:-0400
TZNAME:EDT
DTSTART:20210314T070000
END:DAYLIGHT
BEGIN:STANDARD
TZOFFSETFROM:-0400
TZOFFSETTO:-0500
TZNAME:EST
DTSTART:20211107T060000
END:STANDARD
BEGIN:DAYLIGHT
TZOFFSETFROM:-0500
TZOFFSETTO:-0400
TZNAME:EDT
DTSTART:20220313T070000
END:DAYLIGHT
BEGIN:STANDARD
TZOFFSETFROM:-0400
TZOFFSETTO:-0500
TZNAME:EST
DTSTART:20221106T060000
END:STANDARD
BEGIN:DAYLIGHT
TZOFFSETFROM:-0500
TZOFFSETTO:-0400
TZNAME:EDT
DTSTART:20230312T070000
END:DAYLIGHT
BEGIN:STANDARD
TZOFFSETFROM:-0400
TZOFFSETTO:-0500
TZNAME:EST
DTSTART:20231105T060000
END:STANDARD
BEGIN:DAYLIGHT
TZOFFSETFROM:-0500
TZOFFSETTO:-0400
TZNAME:EDT
DTSTART:20240310T070000
END:DAYLIGHT
BEGIN:STANDARD
TZOFFSETFROM:-0400
TZOFFSETTO:-0500
TZNAME:EST
DTSTART:20241103T060000
END:STANDARD
END:VTIMEZONE
BEGIN:VEVENT
DTSTART;TZID=America/New_York:20230728T173000
DTEND;TZID=America/New_York:20230728T190000
DTSTAMP:20260419T162007
CREATED:20230727T170339Z
LAST-MODIFIED:20230727T170339Z
UID:5032-1690565400-1690570800@www.hopewellmuseum.org
SUMMARY:Closing Reception for Tom Williams Woodcarving Exhibit
DESCRIPTION:Join us at the Hopewell Museum on July 28th from 5:30 p.m. until 7 p.m. for the closing reception for the Tom Williams Woodcarving exhibit. Tom will play music for us and his wife\, Sherry Chandler\, will share her poetry. Light refreshments available.
URL:https://www.hopewellmuseum.org/event/closing-reception-for-tom-williams-woodcarving-exhibit/
LOCATION:Hopewell Museum
END:VEVENT
BEGIN:VEVENT
DTSTART;VALUE=DATE:20230714
DTEND;VALUE=DATE:20230717
DTSTAMP:20260419T162007
CREATED:20230503T152618Z
LAST-MODIFIED:20230715T163503Z
UID:4872-1689292800-1689551999@www.hopewellmuseum.org
SUMMARY:A Weekend of Jazz\, In Honor of Bill Coleman
DESCRIPTION:Join us for a weekend of jazz celebrating the life of Bourbon County’s own jazz musician\, Bill Coleman. Friday\, July 14\, at the Paris Bourbon County Library\, Bill Allison will discuss Mr. Coleman’s life. On Saturday\, July 15\, at the Hopewell Museum\, enjoy dinner and live jazz by the Walnut Street Ramblers\, along with a live and silent auction. On Sunday\, July 16\, a free jazz concert will be held. To register for the Saturday night event with dinner and live jazz music\, please complete the form below. Single tickets are $75. A discount of $65 per ticket applies for multiple tickets. \nFriday – 6:30-7:30pm Educational Lecture\, Paris Public Library – FREE!\nSaturday – 6:30-10 pm\, Jazz Concert w/Dinner\, Open Bar & Auction – RSVP Online\nSunday – 2:00-3:00 pm\, Jazz by Paris Youth\, Chief Reed Park – FREE! \nRSVP Online for the Saturday Night Dinner and Live Jazz Event\nRSVP is closed
URL:https://www.hopewellmuseum.org/event/a-weekend-of-jazz-in-honor-of-bill-coleman/
END:VEVENT
BEGIN:VEVENT
DTSTART;TZID=America/New_York:20230617T140000
DTEND;TZID=America/New_York:20230617T160000
DTSTAMP:20260419T162007
CREATED:20230503T152507Z
LAST-MODIFIED:20230605T184158Z
UID:4870-1687010400-1687017600@www.hopewellmuseum.org
SUMMARY:Garrett Morgan Documentary
DESCRIPTION:Enjoy a screening of the award-winning film\, ‘The Inventor’\, about Paris native Garrett Morgan\, on June 17th at 2:00 pm. The filmmakers\, Cabral Clement and Philip Musey\, will be here to share the story of their work and to answer any questions in a talk back session. These young men will be traveling from Atlanta\, Georgia\, and New York City\, respectively–let’s be sure to give them a warm Paris welcome!
URL:https://www.hopewellmuseum.org/event/garrett-morgan-documentary/
LOCATION:Hopewell Museum
END:VEVENT
BEGIN:VEVENT
DTSTART;TZID=America/New_York:20230617T130000
DTEND;TZID=America/New_York:20230617T140000
DTSTAMP:20260419T162007
CREATED:20230503T155413Z
LAST-MODIFIED:20230503T155559Z
UID:4896-1687006800-1687010400@www.hopewellmuseum.org
SUMMARY:Summer Creatives Exhibit Opening
DESCRIPTION:Join us for a exhibit of the works by our Summer Creatives Campers. Light refreshments. Free & open to the public
URL:https://www.hopewellmuseum.org/event/summer-creatives-exhibit-opening/
LOCATION:Hopewell Museum
END:VEVENT
BEGIN:VEVENT
DTSTART;TZID=America/New_York:20230612T100000
DTEND;TZID=America/New_York:20230616T130000
DTSTAMP:20260419T162007
CREATED:20230503T154802Z
LAST-MODIFIED:20230509T144944Z
UID:4894-1686564000-1686920400@www.hopewellmuseum.org
SUMMARY:Summer Creatives Camp
DESCRIPTION:Calling All Creatives! Summer Creatives Camp For ages 9-12. Campers will get to express their creativity across a variety of disciplines—visual art\, cooking\, photography\, music and writing. Monday through Friday 10 a.m. until 1 p.m. daily. The week will culminate with an exhibit of all the work produced during camp on Saturday\, June 17th from 1 p.m. to 2 p.m. Limited to 22 campers. Registration will open April 28th. Cost is $20/week. Includes lunch & supplies. Please note a camera will not be provided unless indicated otherwise on your registration. Scholarships available. You can register online below or by calling 859-987-7274. \nOnline Registration\nSummer Creatives Camp Registration Is Closed! We reached the maximum capacity of 22 campers.
URL:https://www.hopewellmuseum.org/event/summer-creatives-camp/
LOCATION:Hopewell Museum
END:VEVENT
BEGIN:VEVENT
DTSTART;TZID=America/New_York:20230520T160000
DTEND;TZID=America/New_York:20230520T190000
DTSTAMP:20260419T162007
CREATED:20230503T152422Z
LAST-MODIFIED:20230511T180815Z
UID:4868-1684598400-1684609200@www.hopewellmuseum.org
SUMMARY:Box Supper in Millersburg
DESCRIPTION:Join us for our Box Supper in Millersburg on Saturday\, May 20th. We will meet at the city park on the old town square in downtown Millersburg at 4 p.m. Attendees will tour the Millersburg Colored School\, the ArtCroft Gallery\, and the Woods Chapel CME Church from 4 p.m. until 6 p.m. Supper will be from 6 p.m. until 7 p.m. You can register online below or by calling 859-987-7274. \nATTENTION: UPON FURTHER CONSIDERATION\, WE’VE DECIDED THAT THERE WILL BE NO MEMBERSHIP MEETING AT THE BOX SUPPER!  \nOnline Registration
URL:https://www.hopewellmuseum.org/event/box-supper-millersburg-colored-school-and-woods-chapel-cme-church-tours/
LOCATION:City Park\, downtown\, Millersburg\, KY\, 40348\, United States
END:VEVENT
BEGIN:VEVENT
DTSTART;TZID=America/New_York:20230516T123000
DTEND;TZID=America/New_York:20230516T133000
DTSTAMP:20260419T162007
CREATED:20230503T160108Z
LAST-MODIFIED:20230503T160145Z
UID:4906-1684240200-1684243800@www.hopewellmuseum.org
SUMMARY:Hopewell Docent Training & Coffee
DESCRIPTION:Docents will learn more about the current exhibit\, see examples of History Hall tours from other docents\, and enjoy coffee and pastries.
URL:https://www.hopewellmuseum.org/event/hopewell-docent-training-coffee-2/
LOCATION:Hopewell Museum
END:VEVENT
BEGIN:VEVENT
DTSTART;TZID=America/New_York:20230513T113000
DTEND;TZID=America/New_York:20230513T123000
DTSTAMP:20260419T162007
CREATED:20230503T152350Z
LAST-MODIFIED:20230503T160315Z
UID:4866-1683977400-1683981000@www.hopewellmuseum.org
SUMMARY:Paris Storytelling Festival: Jam Session w/Josh Goforth
DESCRIPTION:
URL:https://www.hopewellmuseum.org/event/jam-session-w-josh-goforth/
LOCATION:Hopewell Museum
END:VEVENT
BEGIN:VEVENT
DTSTART;TZID=America/New_York:20230512T173000
DTEND;TZID=America/New_York:20230512T190000
DTSTAMP:20260419T162007
CREATED:20230503T153906Z
LAST-MODIFIED:20230503T200547Z
UID:4890-1683912600-1683918000@www.hopewellmuseum.org
SUMMARY:Tom Williams Woodcarving Artist's Reception
DESCRIPTION:Join us for a reception honoring the artist Tom Williams and his woodcarving collection from 5:30 p.m. until 7 p.m. on Friday\, May 12th at the Hopewell Museum. Light refreshments will be served. This event is free and open to the public.
URL:https://www.hopewellmuseum.org/event/tom-williams-woodcarving-artists-reception/
LOCATION:Hopewell Museum
END:VEVENT
BEGIN:VEVENT
DTSTART;TZID=America/New_York:20230427T170000
DTEND;TZID=America/New_York:20230427T183000
DTSTAMP:20260419T162007
CREATED:20230414T152132Z
LAST-MODIFIED:20230414T152243Z
UID:4860-1682614800-1682620200@www.hopewellmuseum.org
SUMMARY:Welcome New Director: Denise Brown – Apr. 27th
DESCRIPTION:Come meet our new director Denise Brown at the Paris-Bourbon County Chamber of Commerce Business After Hours on April 27th at 5:00 p.m. until 6:30 p.m. at Hopewell Museum. Enjoy a night of networking!
URL:https://www.hopewellmuseum.org/event/welcome-new-director-denise-brown-apr-27th/
LOCATION:Hopewell Museum
END:VEVENT
BEGIN:VEVENT
DTSTART;TZID=America/New_York:20221210T180000
DTEND;TZID=America/New_York:20221210T210000
DTSTAMP:20260419T162007
CREATED:20220829T164926Z
LAST-MODIFIED:20221201T205640Z
UID:4612-1670695200-1670706000@www.hopewellmuseum.org
SUMMARY:Holiday Party & Annual Meeting for Hopewell Museum/H.P.B.C. Members
DESCRIPTION:On Saturday\, December 10\, HPBC and Hopewell Museum will host its combined annual Holiday Party and membership meeting at Hopewell Museum. The evening will include the pot luck “soup supper” and the annual membership meeting normally held in November. Please phone the museum at 859-987-7274 to volunteer to make your special soup\, pimento cheese sandwiches\, olive nut sandwiches\, cornbread\, or desserts. Crackers are also needed.  \nMake plans to usher in the holiday season and join us for this festive evening on December 10 from 6:00—9:00 p.m. If you are not a member of the Hopewell Museum and Historic Paris-Bourbon County but would like to be\, or if you’d like to renew your membership\, please click here and complete our membership registration form.
URL:https://www.hopewellmuseum.org/event/hopewell-museum-christmas-party-and-annual-meeting/
LOCATION:Hopewell Museum
END:VEVENT
BEGIN:VEVENT
DTSTART;TZID=America/New_York:20221118T180000
DTEND;TZID=America/New_York:20221118T210000
DTSTAMP:20260419T162007
CREATED:20220829T164734Z
LAST-MODIFIED:20221114T190743Z
UID:4608-1668794400-1668805200@www.hopewellmuseum.org
SUMMARY:Mary Spears Van Meter Dinner & Awards
DESCRIPTION:Please join us for our annual Mary Spears Van Meter Dinner and Award Ceremony. The event will be Friday\, November 18th from 6 pm to 9 pm. Celebrate HPBC’s Founder’s Day with guest speaker Dr. Woodford Van Meter and the delayed 2020 Mary Spears Van Meter Historic Preservation Award to the Bourbon Citizen Museum. Tickets are $45 per person. RSVP deadline is Friday\, November 11th. You can RSVP online by completing the form below or by sending an email to info@hopewellmuseum.org (if emailing please indicate your choice of bourbon glazed chicken or spinach lasagna for your dinner.  \nRSVPs are now closed.
URL:https://www.hopewellmuseum.org/event/mary-spears-van-meter-dinner-awards/
LOCATION:Hopewell Museum
ATTACH;FMTTYPE=image/png:https://www.hopewellmuseum.org/wp-content/uploads/2022/08/MSVM-Invite-Postcard-2022-FRONT.png
END:VEVENT
BEGIN:VEVENT
DTSTART;TZID=America/New_York:20221105T100000
DTEND;TZID=America/New_York:20221112T160000
DTSTAMP:20260419T162007
CREATED:20220907T153955Z
LAST-MODIFIED:20221110T160108Z
UID:4679-1667642400-1668268800@www.hopewellmuseum.org
SUMMARY:Genealogy Workshops
DESCRIPTION:In partnership with the Paris-Bourbon County Library we are hosting two Genealogy Workshops this fall! Workshop topics will help you understand how to use local\, state\, and national sources to trace your family history. Workshops are free unless requesting a boxed lunch. Each workshop is limited to 25 participants. Registration closed November 10th.
URL:https://www.hopewellmuseum.org/event/genealogy-workshops/
LOCATION:Paris-Bourbon County Public Library\,  701 High St\, Paris\, KY\, 40361\, United States
ATTACH;FMTTYPE=image/png:https://www.hopewellmuseum.org/wp-content/uploads/2022/09/Genealogy-workshops8.5-×-11-in-2.png
ORGANIZER;CN="HPBC/Hopewell Museum":MAILTO:info@hopewellmuseum.org
END:VEVENT
BEGIN:VEVENT
DTSTART;TZID=America/New_York:20221023T140000
DTEND;TZID=America/New_York:20221023T153000
DTSTAMP:20260419T162007
CREATED:20220901T163110Z
LAST-MODIFIED:20220906T144335Z
UID:4639-1666533600-1666539000@www.hopewellmuseum.org
SUMMARY:Cemetery Tour: Cedar Heights
DESCRIPTION:Join us at Cedar Heights Cemetery and learn more about the history of Paris’s historic African American cemetery organized by our Historic Preservation committee. RSVP and pay online below or contact us at info@hopewellmuseum.org by October 16. $15 per person.  \nRVSP Online
URL:https://www.hopewellmuseum.org/event/cemetery-tour-cedar-heights/
LOCATION:Cedar Heights Cemetery\, Cypress Street\, Paris\, KY\, 40361\, United States
ATTACH;FMTTYPE=image/jpeg:https://www.hopewellmuseum.org/wp-content/uploads/2022/09/Cedar-Heights.jpg
END:VEVENT
BEGIN:VEVENT
DTSTART;TZID=America/New_York:20220923T180000
DTEND;TZID=America/New_York:20220923T200000
DTSTAMP:20260419T162007
CREATED:20220901T172325Z
LAST-MODIFIED:20220902T180342Z
UID:4651-1663956000-1663963200@www.hopewellmuseum.org
SUMMARY:Creative Harvest Exhibit Opening
DESCRIPTION:Please join us on Friday\, September 23rd from 6pm to 8pm at the Hopewell Museum for this year’s Creative Harvest exhibit opening. This is the twenty-first year of the exhibit. Enjoy a reception with several of the featured artists in attendance. Donations welcome.
URL:https://www.hopewellmuseum.org/event/creative-harvest-exhibit-opening-3/
LOCATION:Hopewell Museum
END:VEVENT
BEGIN:VEVENT
DTSTART;TZID=America/New_York:20220916T170000
DTEND;TZID=America/New_York:20220916T200000
DTSTAMP:20260419T162007
CREATED:20220829T164116Z
LAST-MODIFIED:20220902T180227Z
UID:4600-1663347600-1663358400@www.hopewellmuseum.org
SUMMARY:ArtWalk
DESCRIPTION:The Hopewell Museum will feature two artists: Alicia Frazier and Andy Sunda. We will also have an activity table on Main Street. This event is FREE.
URL:https://www.hopewellmuseum.org/event/artwalk-2/
LOCATION:Hopewell Museum
END:VEVENT
BEGIN:VEVENT
DTSTART;TZID=America/New_York:20220901T080000
DTEND;TZID=America/New_York:20220901T090000
DTSTAMP:20260419T162007
CREATED:20220829T164025Z
LAST-MODIFIED:20220829T164025Z
UID:4598-1662019200-1662022800@www.hopewellmuseum.org
SUMMARY:Admin Open House
DESCRIPTION:
URL:https://www.hopewellmuseum.org/event/admin-open-house/
LOCATION:Hopewell Museum
END:VEVENT
BEGIN:VEVENT
DTSTART;TZID=America/New_York:20220722T173000
DTEND;TZID=America/New_York:20220723T220000
DTSTAMP:20260419T162007
CREATED:20220528T194715Z
LAST-MODIFIED:20220708T150424Z
UID:4564-1658511000-1658613600@www.hopewellmuseum.org
SUMMARY:SOLD OUT: A Weekend of Jazz: Celebrating the Music of Bill Coleman
DESCRIPTION:Thank you to everyone who has purchased a ticket to our Saturday live jazz event! We are currently SOLD OUT for this event\, but will begin a waiting list. If you would like to be notified when or if a ticket becomes available please email info@hopewellmuseum.org with the subject “Jazz Event Waiting List” and your information.  \n  \nJoin us for a weekend of jazz celebrating Bill Coleman. Born in Centerville\, Bourbon County\, in 1904\, Bill Coleman would go on to become a successful jazz trumpeter who performed professionally for many decades beginning in the 1920s. Coleman would perform with such jazz stars as Louis Armstrong\, Ella Fitzgerald\, and Django Reinhardt and would play around the United States\, Europe\, and India. He moved permanently to Paris\, France in the late 1940s where he continued to live until his death in the 80s. He published his own autobiography\, Trumpet Story\, with the aid of his wife shortly before his death. \nThe Hopewell Museum\, along with our title sponsor Siena Farm\, present a weekend of jazz celebrating Bill Coleman and his music. Our weekend begins with a free scholar’s talk with Dr. George Wright at the Paris-Bourbon Library. Wright is a history professor at the University of Kentucky where he also serves as Senior Advisor to the president of the university and as Vice President for Institutional Diversity. Dr. Wright will speak about the history of African Americans in early 20th Century Kentucky placing Bill Coleman within this context\, as well as about the history of the Jazz Age.   \nOn Saturday\, July 23 we bring you an evening of live jazz at the Paris Livery\, one of downtown Paris’s newest event venues. This intimate evening will feature live jazz from the Walnut Street Ramblers\, Louisville Jazz Initiative\, and the Keith McCutchen Ensemble along with featured vocalist and Paris\, Ky native Mary Jackson. Dinner is provided and a cash bar available. \nA portion of the proceeds will go to the Garrett Morgan Fund. If you are interested in sponsoring this event please contact Cheryl Caskey at info@hopewellmuseum.org or 859-987-7274. \nDr. George Wright Scholar’s Talk: July 22\, 5:30 PM at the Paris-Bourbon Library. Light refreshments. FREE \nJazz Event: July 23\, 6 PM at the Paris Livery. Advance tickets required: $40 per person. Limited seating available.  \n\n 
URL:https://www.hopewellmuseum.org/event/a-weekend-of-jazz-celebrating-the-music-of-bill-coleman/
LOCATION:Paris Livery\, 226 Pleasant St.\, Paris\, KY\, 40361\, United States
ATTACH;FMTTYPE=image/png:https://www.hopewellmuseum.org/wp-content/uploads/2022/05/Bill-Coleman-Jazz-Weekend-8.5-×-11-in-Facebook-Cover.png
END:VEVENT
BEGIN:VEVENT
DTSTART;TZID=America/New_York:20220620T120000
DTEND;TZID=America/New_York:20220624T170000
DTSTAMP:20260419T162007
CREATED:20220331T172903Z
LAST-MODIFIED:20220331T175857Z
UID:4541-1655726400-1656090000@www.hopewellmuseum.org
SUMMARY:Summer Camp - Noon-5 p.m. Each Day
DESCRIPTION:Our popular food camp returns with new recipes and experiences! You don’t want to miss this fun\, hands on\, and delicious experience! Open to kids 8-12\, limit 25. Fee $25 (scholarships available). \nSummer Camp Online Registration
URL:https://www.hopewellmuseum.org/event/summer-camp-2/
LOCATION:Hopewell Museum
END:VEVENT
BEGIN:VEVENT
DTSTART;TZID=America/New_York:20220606T120000
DTEND;TZID=America/New_York:20220610T170000
DTSTAMP:20260419T162007
CREATED:20220331T172801Z
LAST-MODIFIED:20220331T175715Z
UID:4539-1654516800-1654880400@www.hopewellmuseum.org
SUMMARY:Summer Camp - Noon-5 p.m. Each Day
DESCRIPTION:Our popular food camp returns with new recipes and experiences! You don’t want to miss this fun\, hands on\, and delicious experience! Open to kids 8-12\, limit 25. Fee $25 (scholarships available). \nSummer Camp Online Registration
URL:https://www.hopewellmuseum.org/event/summer-camp/
LOCATION:Hopewell Museum
END:VEVENT
BEGIN:VEVENT
DTSTART;TZID=America/New_York:20220603T170000
DTEND;TZID=America/New_York:20220603T210000
DTSTAMP:20260419T162007
CREATED:20220331T172649Z
LAST-MODIFIED:20220331T172649Z
UID:4537-1654275600-1654290000@www.hopewellmuseum.org
SUMMARY:First Friday
DESCRIPTION:Just a short block away from Main Street\, don’t forget to include the museum while you enjoy an evening stroll around downtown Paris!
URL:https://www.hopewellmuseum.org/event/first-friday-3/
LOCATION:Hopewell Museum
END:VEVENT
BEGIN:VEVENT
DTSTART;TZID=America/New_York:20220514T130000
DTEND;TZID=America/New_York:20220514T160000
DTSTAMP:20260419T162007
CREATED:20220331T172424Z
LAST-MODIFIED:20220331T172424Z
UID:4533-1652533200-1652544000@www.hopewellmuseum.org
SUMMARY:Hopewell Springs Clean Up
DESCRIPTION:Join us at Hopewell Springs Park for a clean-up day in support of Historic Preservation Month. Snacks/drinks provided! RAIN DATE: MAY 21
URL:https://www.hopewellmuseum.org/event/hopewell-springs-clean-up/
LOCATION:Hopewell Springs Park\, Second Street near bridge over Houston Creek\, Paris\, KY\, 40361\, United States
END:VEVENT
BEGIN:VEVENT
DTSTART;TZID=America/New_York:20220514T110000
DTEND;TZID=America/New_York:20220514T120000
DTSTAMP:20260419T162007
CREATED:20220331T172554Z
LAST-MODIFIED:20220331T172554Z
UID:4535-1652526000-1652529600@www.hopewellmuseum.org
SUMMARY:Jam Session with Michael Jonathan
DESCRIPTION:Michael Jonathan\, host of Woodsongs Old-Time Radio Hour\, comes to the Hopewell Museum for a Jam Session! Bring your voice\, your instrument\, or just your ears for this Paris StoryFest event! Kid friendly and FREE!
URL:https://www.hopewellmuseum.org/event/jam-session-with-michael-jonathan/
LOCATION:Hopewell Museum
END:VEVENT
BEGIN:VEVENT
DTSTART;TZID=America/New_York:20220506T170000
DTEND;TZID=America/New_York:20220506T210000
DTSTAMP:20260419T162007
CREATED:20220331T171833Z
LAST-MODIFIED:20220331T171833Z
UID:4531-1651856400-1651870800@www.hopewellmuseum.org
SUMMARY:First Friday
DESCRIPTION:Enjoy a cocktail and take a special tour into Hopewell’s Hidden History! See the parts of the museum not generally open to the public. Stoner Creek Shakedown will be on site playing their favorite Bluegrass! $10
URL:https://www.hopewellmuseum.org/event/first-friday-2/
LOCATION:Hopewell Museum
END:VEVENT
BEGIN:VEVENT
DTSTART;TZID=America/New_York:20220422T180000
DTEND;TZID=America/New_York:20220422T200000
DTSTAMP:20260419T162007
CREATED:20220331T171730Z
LAST-MODIFIED:20220331T171730Z
UID:4529-1650650400-1650657600@www.hopewellmuseum.org
SUMMARY:ArtWalk
DESCRIPTION:Bring the kids for a museum hunt and get a coupon for a free cookie from Hopewell Bake Exchange! We’ll also offer a hands on arts activity. Both are FREE and open to the public!
URL:https://www.hopewellmuseum.org/event/artwalk/
LOCATION:Hopewell Museum
END:VEVENT
BEGIN:VEVENT
DTSTART;TZID=America/New_York:20220401T170000
DTEND;TZID=America/New_York:20220401T210000
DTSTAMP:20260419T162007
CREATED:20220331T171641Z
LAST-MODIFIED:20220331T171641Z
UID:4527-1648832400-1648846800@www.hopewellmuseum.org
SUMMARY:First Friday
DESCRIPTION:Just a short block away from Main Street\, don’t forget to include the museum while you enjoy an evening stroll around downtown Paris!
URL:https://www.hopewellmuseum.org/event/first-friday/
LOCATION:Hopewell Museum
END:VEVENT
BEGIN:VEVENT
DTSTART;TZID=America/New_York:20211218T180000
DTEND;TZID=America/New_York:20211218T210000
DTSTAMP:20260419T162007
CREATED:20211109T213358Z
LAST-MODIFIED:20211110T162537Z
UID:2990-1639850400-1639861200@www.hopewellmuseum.org
SUMMARY:Hopewell Holiday Cocktail Party!
DESCRIPTION:Get a little fancy and enjoy food and drink with friends at the museum on December 18 from 6-9 PM for our Holiday Cocktail Party! The museum will be all decked out for the holidays and it’s the last day for your to view our 20th Annual Creative Harvest Art Exhibit! \n$30 Members/$35 Non-Members
URL:https://www.hopewellmuseum.org/event/hopewell-holiday-cocktail-party/
LOCATION:Hopewell Museum
ATTACH;FMTTYPE=image/png:https://www.hopewellmuseum.org/wp-content/uploads/2021/11/Christmas-Party-Banner.png
ORGANIZER;CN="HPBC/Hopewell Museum":MAILTO:info@hopewellmuseum.org
END:VEVENT
BEGIN:VEVENT
DTSTART;TZID=America/New_York:20211218T130000
DTEND;TZID=America/New_York:20211218T150000
DTSTAMP:20260419T162007
CREATED:20211110T162240Z
LAST-MODIFIED:20211110T162240Z
UID:2995-1639832400-1639839600@www.hopewellmuseum.org
SUMMARY:Hopewell Family Fun Day! Holiday Edition!
DESCRIPTION:When: December 18\, 1-3 PM \nWhere: Paris High cafeteria \nWhat: Decorating traditional salt dough ornaments and sugar cookies! \nThis family day is free and open to all families – we ask that at least one adult attend with your child(ren). \nWe’ll have some festive movies playing while we decorate!
URL:https://www.hopewellmuseum.org/event/hopewell-family-fun-day-holiday-edition/
ATTACH;FMTTYPE=image/png:https://www.hopewellmuseum.org/wp-content/uploads/2021/11/Family-Day-Banner.png
ORGANIZER;CN="HPBC/Hopewell Museum":MAILTO:info@hopewellmuseum.org
END:VEVENT
BEGIN:VEVENT
DTSTART;TZID=America/New_York:20211118T180000
DTEND;TZID=America/New_York:20211118T200000
DTSTAMP:20260419T162007
CREATED:20211105T202222Z
LAST-MODIFIED:20211105T202222Z
UID:2977-1637258400-1637265600@www.hopewellmuseum.org
SUMMARY:Annual Meeting & Soup Supper
DESCRIPTION:Join us for our annual meeting & soup supper on November 18 at 6 PM. We will vote on our 2022 slate of board members and our annual budget. RSVP to info@hopewellmuseum.org or 859-987-7274.
URL:https://www.hopewellmuseum.org/event/annual-meeting-soup-supper/
ATTACH;FMTTYPE=image/png:https://www.hopewellmuseum.org/wp-content/uploads/2021/11/Annual-Meeting-2021.png
ORGANIZER;CN="HPBC/Hopewell Museum":MAILTO:info@hopewellmuseum.org
END:VEVENT
BEGIN:VEVENT
DTSTART;TZID=America/New_York:20210911T183000
DTEND;TZID=America/New_York:20210911T230000
DTSTAMP:20260419T162007
CREATED:20210528T155752Z
LAST-MODIFIED:20210730T190433Z
UID:2927-1631385000-1631401200@www.hopewellmuseum.org
SUMMARY:Roaring 20s Gala
DESCRIPTION:Join us for our first major fundraising event since 2019\, HPBC/Hopewell Museums Roaring 20s Gala! Please join us for cocktails\, a catered buffet dinner by Lil’s\, music by the Usual Suspects\, and a live & silet auction. Come dressed to impress or in your 1920s best! The event will take place at Mustard Seed Hill\, 1122 Main Street\, Millersburg\, KY on Saturday\, September 11\, 2021 at 6:30 p.m. You must RSVP by September 4th. No tickets will be sold at the door. Make your reservation by filling out the form below. We also accept payment by mail or in person at 800 Pleasant Street\, Paris\, KY 40361. If you have any questions\, please call us at 859-987-7274. \nRSVP Online!
URL:https://www.hopewellmuseum.org/event/roaring-20s-gala/
LOCATION:Mustard Seed Hill\, 122 Main Street\, Millersburg\, KY\, United States
END:VEVENT
END:VCALENDAR