BEGIN:VCALENDAR
VERSION:2.0
PRODID:-//Hopewell Museum - ECPv6.15.17.1//NONSGML v1.0//EN
CALSCALE:GREGORIAN
METHOD:PUBLISH
X-WR-CALNAME:Hopewell Museum
X-ORIGINAL-URL:https://www.hopewellmuseum.org
X-WR-CALDESC:Events for Hopewell Museum
REFRESH-INTERVAL;VALUE=DURATION:PT1H
X-Robots-Tag:noindex
X-PUBLISHED-TTL:PT1H
BEGIN:VTIMEZONE
TZID:UTC
BEGIN:STANDARD
TZOFFSETFROM:+0000
TZOFFSETTO:+0000
TZNAME:UTC
DTSTART:20180101T000000
END:STANDARD
END:VTIMEZONE
BEGIN:VEVENT
DTSTART;TZID=UTC:20190801T160000
DTEND;TZID=UTC:20190801T170000
DTSTAMP:20260425T093058
CREATED:20190119T233413Z
LAST-MODIFIED:20190120T010448Z
UID:1453-1564675200-1564678800@www.hopewellmuseum.org
SUMMARY:Teen Art Studio
DESCRIPTION:Create your own artwork every Thursday at the Museum! In partnership with Paris-Bourbon County Library. Sponsored by The Cralle Foundation & Micah Campbell—Kentucky Farm Bureau\, Bourbon County. Free\, with snacks & supplies included. No Teen Art Studio in January & December.
URL:https://www.hopewellmuseum.org/event/teen-art-studio-8-2019-08-01/
LOCATION:Hopewell Museum
END:VEVENT
BEGIN:VEVENT
DTSTART;TZID=UTC:20190808T160000
DTEND;TZID=UTC:20190808T170000
DTSTAMP:20260425T093058
CREATED:20190119T233413Z
LAST-MODIFIED:20190120T010448Z
UID:1454-1565280000-1565283600@www.hopewellmuseum.org
SUMMARY:Teen Art Studio
DESCRIPTION:Create your own artwork every Thursday at the Museum! In partnership with Paris-Bourbon County Library. Sponsored by The Cralle Foundation & Micah Campbell—Kentucky Farm Bureau\, Bourbon County. Free\, with snacks & supplies included. No Teen Art Studio in January & December.
URL:https://www.hopewellmuseum.org/event/teen-art-studio-8-2019-08-08/
LOCATION:Hopewell Museum
END:VEVENT
BEGIN:VEVENT
DTSTART;TZID=UTC:20190809T180000
DTEND;TZID=UTC:20190809T200000
DTSTAMP:20260425T093058
CREATED:20190120T000329Z
LAST-MODIFIED:20190713T063254Z
UID:1490-1565373600-1565380800@www.hopewellmuseum.org
SUMMARY:Mary Spears Van Meter Dinner
DESCRIPTION:Annual Founder’s Day Dinner with social hour at 6 PM & dinner at 7 PM featuring special guest speaker\, Tressa Brown from the Kentucky Heritage Council. Presentation of Annual Historic Preservation Award. RSVP Required. $35 Members/$40 Non-members. \nReserve Online
URL:https://www.hopewellmuseum.org/event/mary-spears-van-meter-dinner-3/
LOCATION:Hopewell Museum
END:VEVENT
BEGIN:VEVENT
DTSTART;TZID=UTC:20190815T160000
DTEND;TZID=UTC:20190815T170000
DTSTAMP:20260425T093058
CREATED:20190119T233413Z
LAST-MODIFIED:20190120T010449Z
UID:1455-1565884800-1565888400@www.hopewellmuseum.org
SUMMARY:Teen Art Studio
DESCRIPTION:Create your own artwork every Thursday at the Museum! In partnership with Paris-Bourbon County Library. Sponsored by The Cralle Foundation & Micah Campbell—Kentucky Farm Bureau\, Bourbon County. Free\, with snacks & supplies included. No Teen Art Studio in January & December.
URL:https://www.hopewellmuseum.org/event/teen-art-studio-8-2019-08-15/
LOCATION:Hopewell Museum
END:VEVENT
BEGIN:VEVENT
DTSTART;TZID=UTC:20190822T160000
DTEND;TZID=UTC:20190822T170000
DTSTAMP:20260425T093058
CREATED:20190119T233413Z
LAST-MODIFIED:20190120T010449Z
UID:1456-1566489600-1566493200@www.hopewellmuseum.org
SUMMARY:Teen Art Studio
DESCRIPTION:Create your own artwork every Thursday at the Museum! In partnership with Paris-Bourbon County Library. Sponsored by The Cralle Foundation & Micah Campbell—Kentucky Farm Bureau\, Bourbon County. Free\, with snacks & supplies included. No Teen Art Studio in January & December.
URL:https://www.hopewellmuseum.org/event/teen-art-studio-8-2019-08-22/
LOCATION:Hopewell Museum
END:VEVENT
BEGIN:VEVENT
DTSTART;TZID=UTC:20190829T160000
DTEND;TZID=UTC:20190829T170000
DTSTAMP:20260425T093058
CREATED:20190119T233413Z
LAST-MODIFIED:20190120T010449Z
UID:1457-1567094400-1567098000@www.hopewellmuseum.org
SUMMARY:Teen Art Studio
DESCRIPTION:Create your own artwork every Thursday at the Museum! In partnership with Paris-Bourbon County Library. Sponsored by The Cralle Foundation & Micah Campbell—Kentucky Farm Bureau\, Bourbon County. Free\, with snacks & supplies included. No Teen Art Studio in January & December.
URL:https://www.hopewellmuseum.org/event/teen-art-studio-8-2019-08-29/
LOCATION:Hopewell Museum
END:VEVENT
END:VCALENDAR