BEGIN:VCALENDAR
VERSION:2.0
PRODID:-//Hopewell Museum - ECPv6.15.17.1//NONSGML v1.0//EN
CALSCALE:GREGORIAN
METHOD:PUBLISH
X-ORIGINAL-URL:https://www.hopewellmuseum.org
X-WR-CALDESC:Events for Hopewell Museum
REFRESH-INTERVAL;VALUE=DURATION:PT1H
X-Robots-Tag:noindex
X-PUBLISHED-TTL:PT1H
BEGIN:VTIMEZONE
TZID:UTC
BEGIN:STANDARD
TZOFFSETFROM:+0000
TZOFFSETTO:+0000
TZNAME:UTC
DTSTART:20180101T000000
END:STANDARD
END:VTIMEZONE
BEGIN:VEVENT
DTSTART;TZID=UTC:20191003T160000
DTEND;TZID=UTC:20191003T170000
DTSTAMP:20260425T063004
CREATED:20190119T233413Z
LAST-MODIFIED:20190120T010449Z
UID:1462-1570118400-1570122000@www.hopewellmuseum.org
SUMMARY:Teen Art Studio
DESCRIPTION:Create your own artwork every Thursday at the Museum! In partnership with Paris-Bourbon County Library. Sponsored by The Cralle Foundation & Micah Campbell—Kentucky Farm Bureau\, Bourbon County. Free\, with snacks & supplies included. No Teen Art Studio in January & December.
URL:https://www.hopewellmuseum.org/event/teen-art-studio-8-2019-10-03/
LOCATION:Hopewell Museum
END:VEVENT
BEGIN:VEVENT
DTSTART;TZID=UTC:20191010T160000
DTEND;TZID=UTC:20191010T170000
DTSTAMP:20260425T063004
CREATED:20190119T233413Z
LAST-MODIFIED:20190120T010449Z
UID:1463-1570723200-1570726800@www.hopewellmuseum.org
SUMMARY:Teen Art Studio
DESCRIPTION:Create your own artwork every Thursday at the Museum! In partnership with Paris-Bourbon County Library. Sponsored by The Cralle Foundation & Micah Campbell—Kentucky Farm Bureau\, Bourbon County. Free\, with snacks & supplies included. No Teen Art Studio in January & December.
URL:https://www.hopewellmuseum.org/event/teen-art-studio-8-2019-10-10/
LOCATION:Hopewell Museum
END:VEVENT
BEGIN:VEVENT
DTSTART;TZID=UTC:20191011T180000
DTEND;TZID=UTC:20191011T200000
DTSTAMP:20260425T063004
CREATED:20190120T001551Z
LAST-MODIFIED:20190120T001559Z
UID:1509-1570816800-1570824000@www.hopewellmuseum.org
SUMMARY:Exhibit Opening: Creative Harvest
DESCRIPTION:Free & open to the public. Talented artists of the region bring a multi-faceted exhibit of 2 and 3-D works to the walls of the Museum. On display through December 16.
URL:https://www.hopewellmuseum.org/event/exhibit-opening-creative-harvest/
LOCATION:Hopewell Museum
END:VEVENT
BEGIN:VEVENT
DTSTART;TZID=UTC:20191017T160000
DTEND;TZID=UTC:20191017T170000
DTSTAMP:20260425T063004
CREATED:20190119T233413Z
LAST-MODIFIED:20190120T010450Z
UID:1464-1571328000-1571331600@www.hopewellmuseum.org
SUMMARY:Teen Art Studio
DESCRIPTION:Create your own artwork every Thursday at the Museum! In partnership with Paris-Bourbon County Library. Sponsored by The Cralle Foundation & Micah Campbell—Kentucky Farm Bureau\, Bourbon County. Free\, with snacks & supplies included. No Teen Art Studio in January & December.
URL:https://www.hopewellmuseum.org/event/teen-art-studio-8-2019-10-17/
LOCATION:Hopewell Museum
END:VEVENT
BEGIN:VEVENT
DTSTART;TZID=UTC:20191019T180000
DTEND;TZID=UTC:20191019T200000
DTSTAMP:20260425T063004
CREATED:20190119T232938Z
LAST-MODIFIED:20190119T232938Z
UID:1421-1571508000-1571515200@www.hopewellmuseum.org
SUMMARY:Family Fun Series: Night at the Museum\, 6-8 PM
DESCRIPTION:Hands-on art & history activities. Activities subject to change. Pre-registration requested\, space is limited. Children must be accompanied by an adult. All activities are 2-4 PM unless otherwise noted. Free.
URL:https://www.hopewellmuseum.org/event/family-fun-series-night-at-the-museum-6-8-pm/
LOCATION:Hopewell Museum
END:VEVENT
BEGIN:VEVENT
DTSTART;TZID=UTC:20191020T140000
DTEND;TZID=UTC:20191020T160000
DTSTAMP:20260425T063004
CREATED:20190120T000852Z
LAST-MODIFIED:20190120T000852Z
UID:1498-1571580000-1571587200@www.hopewellmuseum.org
SUMMARY:Ruddles Mills Cemetery Walking Tour
DESCRIPTION:Insights provided by local historians. Pre-registration required. $10/person\, students under 15 free. Proceeds benefit HPBC/HM and Ruddles Mills Cemetery.
URL:https://www.hopewellmuseum.org/event/ruddles-mills-cemetery-walking-tour/
LOCATION:Ruddles Mills Cemetery
END:VEVENT
BEGIN:VEVENT
DTSTART;TZID=UTC:20191024T160000
DTEND;TZID=UTC:20191024T170000
DTSTAMP:20260425T063004
CREATED:20190119T233413Z
LAST-MODIFIED:20190120T010450Z
UID:1465-1571932800-1571936400@www.hopewellmuseum.org
SUMMARY:Teen Art Studio
DESCRIPTION:Create your own artwork every Thursday at the Museum! In partnership with Paris-Bourbon County Library. Sponsored by The Cralle Foundation & Micah Campbell—Kentucky Farm Bureau\, Bourbon County. Free\, with snacks & supplies included. No Teen Art Studio in January & December.
URL:https://www.hopewellmuseum.org/event/teen-art-studio-8-2019-10-24/
LOCATION:Hopewell Museum
END:VEVENT
BEGIN:VEVENT
DTSTART;TZID=UTC:20191031T160000
DTEND;TZID=UTC:20191031T170000
DTSTAMP:20260425T063004
CREATED:20190119T233413Z
LAST-MODIFIED:20190119T233413Z
UID:1530-1572537600-1572541200@www.hopewellmuseum.org
SUMMARY:Teen Art Studio
DESCRIPTION:Create your own artwork every Thursday at the Museum! In partnership with Paris-Bourbon County Library. Sponsored by The Cralle Foundation & Micah Campbell—Kentucky Farm Bureau\, Bourbon County. Free\, with snacks & supplies included. No Teen Art Studio in January & December.
URL:https://www.hopewellmuseum.org/event/teen-art-studio-8-2019-10-31/
LOCATION:Hopewell Museum
END:VEVENT
END:VCALENDAR