BEGIN:VCALENDAR
VERSION:2.0
PRODID:-//Hopewell Museum - ECPv6.15.17.1//NONSGML v1.0//EN
CALSCALE:GREGORIAN
METHOD:PUBLISH
X-WR-CALNAME:Hopewell Museum
X-ORIGINAL-URL:https://www.hopewellmuseum.org
X-WR-CALDESC:Events for Hopewell Museum
REFRESH-INTERVAL;VALUE=DURATION:PT1H
X-Robots-Tag:noindex
X-PUBLISHED-TTL:PT1H
BEGIN:VTIMEZONE
TZID:UTC
BEGIN:STANDARD
TZOFFSETFROM:+0000
TZOFFSETTO:+0000
TZNAME:UTC
DTSTART:20190101T000000
END:STANDARD
END:VTIMEZONE
BEGIN:VEVENT
DTSTART;TZID=UTC:20200807T180000
DTEND;TZID=UTC:20200807T200000
DTSTAMP:20260424T155759
CREATED:20200204T230724Z
LAST-MODIFIED:20200204T230724Z
UID:1976-1596823200-1596830400@www.hopewellmuseum.org
SUMMARY:Mary Spears Van Meter Dinner
DESCRIPTION:Join us for our annual Founder’s Day dinner. We’ll have a social hour at 6 PM with dinner at 7 PM. Catered meal & drinks are included with your ticket purchase. Guest speaker: Chris Poynter. Presentation of Annual Historic Preservation Award. RSVP Required by July 31. $35 Members | $40 Non-members.
URL:https://www.hopewellmuseum.org/event/mary-spears-van-meter-dinner-4/
LOCATION:KY
END:VEVENT
BEGIN:VEVENT
DTSTART;TZID=UTC:20200814T140000
DTEND;TZID=UTC:20200814T160000
DTSTAMP:20260424T155759
CREATED:20200204T222142Z
LAST-MODIFIED:20200204T222921Z
UID:1950-1597413600-1597420800@www.hopewellmuseum.org
SUMMARY:Family Fun Series: Welcome back to school ice-cream & popcorn at the Library
DESCRIPTION:Hands-on art & history activities. Activities subject to change. Pre-registration requested\, space is limited. Children must be accompanied by an adult. All activities are 2-4 PM unless otherwise noted. FREE & Open to the public. Sponsored by Kentucky Bank.
URL:https://www.hopewellmuseum.org/event/family-fun-series-welcome-back-to-school-ice-cream-popcorn-at-the-library/
LOCATION:KY
END:VEVENT
BEGIN:VEVENT
DTSTART;TZID=UTC:20200820T160000
DTEND;TZID=UTC:20200820T170000
DTSTAMP:20260424T155759
CREATED:20200204T213502Z
LAST-MODIFIED:20200204T213502Z
UID:1907-1597939200-1597942800@www.hopewellmuseum.org
SUMMARY:Teen Art Studio\, Thursdays 4-5 PM
DESCRIPTION:Teens from all schools are invited to create their own artwork every Thursday at the Museum! In partnership with Paris-Bourbon County Library. Supported in part by the Joy Vaughn Venter Art Fund. Free\, with snacks & supplies included. No Teen Art Studio in January & December or during summer break\, unless otherwise posted on social media.
URL:https://www.hopewellmuseum.org/event/teen-art-studio-thursdays-4-5-pm-19/
LOCATION:KY
END:VEVENT
BEGIN:VEVENT
DTSTART;TZID=UTC:20200827T160000
DTEND;TZID=UTC:20200827T170000
DTSTAMP:20260424T155759
CREATED:20200204T213530Z
LAST-MODIFIED:20200204T213530Z
UID:1909-1598544000-1598547600@www.hopewellmuseum.org
SUMMARY:Teen Art Studio\, Thursdays 4-5 PM
DESCRIPTION:Teens from all schools are invited to create their own artwork every Thursday at the Museum! In partnership with Paris-Bourbon County Library. Supported in part by the Joy Vaughn Venter Art Fund. Free\, with snacks & supplies included. No Teen Art Studio in January & December or during summer break\, unless otherwise posted on social media.
URL:https://www.hopewellmuseum.org/event/teen-art-studio-thursdays-4-5-pm-20/
LOCATION:KY
END:VEVENT
BEGIN:VEVENT
DTSTART;TZID=UTC:20200827T160000
DTEND;TZID=UTC:20200827T170000
DTSTAMP:20260424T155759
CREATED:20200204T213603Z
LAST-MODIFIED:20200204T213603Z
UID:1911-1598544000-1598547600@www.hopewellmuseum.org
SUMMARY:Teen Art Studio\, Thursdays 4-5 PM
DESCRIPTION:Teens from all schools are invited to create their own artwork every Thursday at the Museum! In partnership with Paris-Bourbon County Library. Supported in part by the Joy Vaughn Venter Art Fund. Free\, with snacks & supplies included. No Teen Art Studio in January & December or during summer break\, unless otherwise posted on social media.
URL:https://www.hopewellmuseum.org/event/teen-art-studio-thursdays-4-5-pm-21/
LOCATION:KY
END:VEVENT
END:VCALENDAR