BEGIN:VCALENDAR
VERSION:2.0
PRODID:-//Hopewell Museum - ECPv6.15.17.1//NONSGML v1.0//EN
CALSCALE:GREGORIAN
METHOD:PUBLISH
X-WR-CALNAME:Hopewell Museum
X-ORIGINAL-URL:https://www.hopewellmuseum.org
X-WR-CALDESC:Events for Hopewell Museum
REFRESH-INTERVAL;VALUE=DURATION:PT1H
X-Robots-Tag:noindex
X-PUBLISHED-TTL:PT1H
BEGIN:VTIMEZONE
TZID:UTC
BEGIN:STANDARD
TZOFFSETFROM:+0000
TZOFFSETTO:+0000
TZNAME:UTC
DTSTART:20190101T000000
END:STANDARD
END:VTIMEZONE
BEGIN:VEVENT
DTSTART;TZID=UTC:20201105T160000
DTEND;TZID=UTC:20201105T170000
DTSTAMP:20260424T114319
CREATED:20200204T214413Z
LAST-MODIFIED:20200204T214413Z
UID:1931-1604592000-1604595600@www.hopewellmuseum.org
SUMMARY:Teen Art Studio\, Thursdays 4-5 PM
DESCRIPTION:Teens from all schools are invited to create their own artwork every Thursday at the Museum! In partnership with Paris-Bourbon County Library. Supported in part by the Joy Vaughn Venter Art Fund. Free\, with snacks & supplies included. No Teen Art Studio in January & December or during summer break\, unless otherwise posted on social media.
URL:https://www.hopewellmuseum.org/event/teen-art-studio-thursdays-4-5-pm-31/
LOCATION:KY
END:VEVENT
BEGIN:VEVENT
DTSTART;TZID=UTC:20201112T160000
DTEND;TZID=UTC:20201112T170000
DTSTAMP:20260424T114319
CREATED:20200204T214450Z
LAST-MODIFIED:20200204T214450Z
UID:1933-1605196800-1605200400@www.hopewellmuseum.org
SUMMARY:Teen Art Studio\, Thursdays 4-5 PM
DESCRIPTION:Teens from all schools are invited to create their own artwork every Thursday at the Museum! In partnership with Paris-Bourbon County Library. Supported in part by the Joy Vaughn Venter Art Fund. Free\, with snacks & supplies included. No Teen Art Studio in January & December or during summer break\, unless otherwise posted on social media.
URL:https://www.hopewellmuseum.org/event/teen-art-studio-thursdays-4-5-pm-32/
LOCATION:KY
END:VEVENT
BEGIN:VEVENT
DTSTART;TZID=UTC:20201112T180000
DTEND;TZID=UTC:20201112T200000
DTSTAMP:20260424T114319
CREATED:20200204T230810Z
LAST-MODIFIED:20200204T230810Z
UID:1978-1605204000-1605211200@www.hopewellmuseum.org
SUMMARY:Annual Membership Meeting & Soup Supper
DESCRIPTION:Join us for our annual membership meeting where we will vote on our new slate of officers and board members\, honor the work of our volunteers\, and learn more about what we have accomplished over the year. Free & Open to members.
URL:https://www.hopewellmuseum.org/event/annual-membership-meeting-soup-supper-4/
LOCATION:KY
END:VEVENT
BEGIN:VEVENT
DTSTART;TZID=UTC:20201119T160000
DTEND;TZID=UTC:20201119T170000
DTSTAMP:20260424T114319
CREATED:20200204T214823Z
LAST-MODIFIED:20200204T214823Z
UID:1935-1605801600-1605805200@www.hopewellmuseum.org
SUMMARY:Teen Art Studio\, Thursdays 4-5 PM
DESCRIPTION:Teens from all schools are invited to create their own artwork every Thursday at the Museum! In partnership with Paris-Bourbon County Library. Supported in part by the Joy Vaughn Venter Art Fund. Free\, with snacks & supplies included. No Teen Art Studio in January & December or during summer break\, unless otherwise posted on social media.
URL:https://www.hopewellmuseum.org/event/teen-art-studio-thursdays-4-5-pm-33/
LOCATION:KY
END:VEVENT
END:VCALENDAR