BEGIN:VCALENDAR
VERSION:2.0
PRODID:-//Hopewell Museum - ECPv6.15.17.1//NONSGML v1.0//EN
CALSCALE:GREGORIAN
METHOD:PUBLISH
X-ORIGINAL-URL:https://www.hopewellmuseum.org
X-WR-CALDESC:Events for Hopewell Museum
REFRESH-INTERVAL;VALUE=DURATION:PT1H
X-Robots-Tag:noindex
X-PUBLISHED-TTL:PT1H
BEGIN:VTIMEZONE
TZID:America/New_York
BEGIN:DAYLIGHT
TZOFFSETFROM:-0500
TZOFFSETTO:-0400
TZNAME:EDT
DTSTART:20200308T070000
END:DAYLIGHT
BEGIN:STANDARD
TZOFFSETFROM:-0400
TZOFFSETTO:-0500
TZNAME:EST
DTSTART:20201101T060000
END:STANDARD
BEGIN:DAYLIGHT
TZOFFSETFROM:-0500
TZOFFSETTO:-0400
TZNAME:EDT
DTSTART:20210314T070000
END:DAYLIGHT
BEGIN:STANDARD
TZOFFSETFROM:-0400
TZOFFSETTO:-0500
TZNAME:EST
DTSTART:20211107T060000
END:STANDARD
BEGIN:DAYLIGHT
TZOFFSETFROM:-0500
TZOFFSETTO:-0400
TZNAME:EDT
DTSTART:20220313T070000
END:DAYLIGHT
BEGIN:STANDARD
TZOFFSETFROM:-0400
TZOFFSETTO:-0500
TZNAME:EST
DTSTART:20221106T060000
END:STANDARD
END:VTIMEZONE
BEGIN:VEVENT
DTSTART;TZID=America/New_York:20210911T183000
DTEND;TZID=America/New_York:20210911T230000
DTSTAMP:20260423T201803
CREATED:20210528T155752Z
LAST-MODIFIED:20210730T190433Z
UID:2927-1631385000-1631401200@www.hopewellmuseum.org
SUMMARY:Roaring 20s Gala
DESCRIPTION:Join us for our first major fundraising event since 2019\, HPBC/Hopewell Museums Roaring 20s Gala! Please join us for cocktails\, a catered buffet dinner by Lil’s\, music by the Usual Suspects\, and a live & silet auction. Come dressed to impress or in your 1920s best! The event will take place at Mustard Seed Hill\, 1122 Main Street\, Millersburg\, KY on Saturday\, September 11\, 2021 at 6:30 p.m. You must RSVP by September 4th. No tickets will be sold at the door. Make your reservation by filling out the form below. We also accept payment by mail or in person at 800 Pleasant Street\, Paris\, KY 40361. If you have any questions\, please call us at 859-987-7274. \nRSVP Online!
URL:https://www.hopewellmuseum.org/event/roaring-20s-gala/
LOCATION:Mustard Seed Hill\, 122 Main Street\, Millersburg\, KY\, United States
END:VEVENT
END:VCALENDAR