BEGIN:VCALENDAR
VERSION:2.0
PRODID:-//Hopewell Museum - ECPv6.15.17.1//NONSGML v1.0//EN
CALSCALE:GREGORIAN
METHOD:PUBLISH
X-ORIGINAL-URL:https://www.hopewellmuseum.org
X-WR-CALDESC:Events for Hopewell Museum
REFRESH-INTERVAL;VALUE=DURATION:PT1H
X-Robots-Tag:noindex
X-PUBLISHED-TTL:PT1H
BEGIN:VTIMEZONE
TZID:America/New_York
BEGIN:DAYLIGHT
TZOFFSETFROM:-0500
TZOFFSETTO:-0400
TZNAME:EDT
DTSTART:20220313T070000
END:DAYLIGHT
BEGIN:STANDARD
TZOFFSETFROM:-0400
TZOFFSETTO:-0500
TZNAME:EST
DTSTART:20221106T060000
END:STANDARD
BEGIN:DAYLIGHT
TZOFFSETFROM:-0500
TZOFFSETTO:-0400
TZNAME:EDT
DTSTART:20230312T070000
END:DAYLIGHT
BEGIN:STANDARD
TZOFFSETFROM:-0400
TZOFFSETTO:-0500
TZNAME:EST
DTSTART:20231105T060000
END:STANDARD
BEGIN:DAYLIGHT
TZOFFSETFROM:-0500
TZOFFSETTO:-0400
TZNAME:EDT
DTSTART:20240310T070000
END:DAYLIGHT
BEGIN:STANDARD
TZOFFSETFROM:-0400
TZOFFSETTO:-0500
TZNAME:EST
DTSTART:20241103T060000
END:STANDARD
END:VTIMEZONE
BEGIN:VEVENT
DTSTART;TZID=America/New_York:20231104T140000
DTEND;TZID=America/New_York:20231104T170000
DTSTAMP:20260422T045230
CREATED:20231019T171416Z
LAST-MODIFIED:20231019T172224Z
UID:5091-1699106400-1699117200@www.hopewellmuseum.org
SUMMARY:100 Years of the Signal
DESCRIPTION:Join us for a celebration of the inventor Garrett Morgan\, 100 Years of the Signal 1923-2023\, on Saturday\, November 4\, 2023 from 2-5pm at the Hopewell Museum. We will have light refreshments and an unveiling of the model signal. This event is free and open to the public. Presented by Hopewell Museum and Paris Westside Neighborhood Association\, Inc.
URL:https://www.hopewellmuseum.org/event/100-years-of-the-signal/
LOCATION:Hopewell Museum
END:VEVENT
BEGIN:VEVENT
DTSTART;TZID=America/New_York:20231117T140000
DTEND;TZID=America/New_York:20231117T200000
DTSTAMP:20260422T045230
CREATED:20231109T212748Z
LAST-MODIFIED:20231109T212748Z
UID:5121-1700229600-1700251200@www.hopewellmuseum.org
SUMMARY:The Paris 3 Film Showing
DESCRIPTION:Join us for a showing of The Paris 3: A Story of Justic\, Unity\, and Transformation\, presented by Story Front. The Paris 3 tells how three young girls dared to confront segregation\, inspiring a movement in 1961 that forever altered the small town of Paris\, Kentucky. Showtimes are November 17th at 2 p.m. and 6 p.m. and November 19th at 2 p.m. This event is free and open to the public.
URL:https://www.hopewellmuseum.org/event/the-paris-3-film-showing/
LOCATION:Hopewell Museum
END:VEVENT
BEGIN:VEVENT
DTSTART;TZID=America/New_York:20231118T180000
DTEND;TZID=America/New_York:20231118T200000
DTSTAMP:20260422T045230
CREATED:20230503T153415Z
LAST-MODIFIED:20231110T201928Z
UID:4882-1700330400-1700337600@www.hopewellmuseum.org
SUMMARY:Annual Membership Meeting & Soup Supper
DESCRIPTION:Hopewell Museum Members! Join us for our annual member meeting & soup supper on November 18 at 6 PM. Chautauqua performer Simonetta Cochis will entertain us with her interpretation of Madame Mentelle (presented by Kentucky Humanities\, with regional sponsors: PNC Bank\, Kentucky Colonels\, the Cralle Foundation and others). We will vote on our 2024 slate of board members and our annual budget. RSVP to info@hopewellmuseum.org or 859-987-7274. This event is free and open to members.
URL:https://www.hopewellmuseum.org/event/annual-membership-meeting-soup-supper-5/
LOCATION:Hopewell Museum
END:VEVENT
BEGIN:VEVENT
DTSTART;TZID=America/New_York:20231119T140000
DTEND;TZID=America/New_York:20231119T160000
DTSTAMP:20260422T045230
CREATED:20231109T212843Z
LAST-MODIFIED:20231109T212843Z
UID:5123-1700402400-1700409600@www.hopewellmuseum.org
SUMMARY:Paris 3 Film Matinee Showing
DESCRIPTION:Join us for a showing of The Paris 3: A Story of Justic\, Unity\, and Transformation\, presented by Story Front. The Paris 3 tells how three young girls dared to confront segregation\, inspiring a movement in 1961 that forever altered the small town of Paris\, Kentucky. Showtimes are November 17th at 2 p.m. and 6 p.m. and November 19th at 2 p.m. This event is free and open to the public.
URL:https://www.hopewellmuseum.org/event/paris-3-film-matinee-showing/
LOCATION:Hopewell Museum
END:VEVENT
END:VCALENDAR