BEGIN:VCALENDAR
VERSION:2.0
PRODID:-//Hopewell Museum - ECPv6.15.17.1//NONSGML v1.0//EN
CALSCALE:GREGORIAN
METHOD:PUBLISH
X-WR-CALNAME:Hopewell Museum
X-ORIGINAL-URL:https://www.hopewellmuseum.org
X-WR-CALDESC:Events for Hopewell Museum
REFRESH-INTERVAL;VALUE=DURATION:PT1H
X-Robots-Tag:noindex
X-PUBLISHED-TTL:PT1H
BEGIN:VTIMEZONE
TZID:America/New_York
BEGIN:DAYLIGHT
TZOFFSETFROM:-0500
TZOFFSETTO:-0400
TZNAME:EDT
DTSTART:20230312T070000
END:DAYLIGHT
BEGIN:STANDARD
TZOFFSETFROM:-0400
TZOFFSETTO:-0500
TZNAME:EST
DTSTART:20231105T060000
END:STANDARD
BEGIN:DAYLIGHT
TZOFFSETFROM:-0500
TZOFFSETTO:-0400
TZNAME:EDT
DTSTART:20240310T070000
END:DAYLIGHT
BEGIN:STANDARD
TZOFFSETFROM:-0400
TZOFFSETTO:-0500
TZNAME:EST
DTSTART:20241103T060000
END:STANDARD
BEGIN:DAYLIGHT
TZOFFSETFROM:-0500
TZOFFSETTO:-0400
TZNAME:EDT
DTSTART:20250309T070000
END:DAYLIGHT
BEGIN:STANDARD
TZOFFSETFROM:-0400
TZOFFSETTO:-0500
TZNAME:EST
DTSTART:20251102T060000
END:STANDARD
END:VTIMEZONE
BEGIN:VEVENT
DTSTART;TZID=America/New_York:20240419T180000
DTEND;TZID=America/New_York:20240419T200000
DTSTAMP:20260421T213322
CREATED:20240227T223102Z
LAST-MODIFIED:20240227T223329Z
UID:5194-1713549600-1713556800@www.hopewellmuseum.org
SUMMARY:Spring ArtWalk
DESCRIPTION:Come join us at Hopewell Museum for the Spring ArtWalk on April 19th from 6 p.m. to 8 p.m. Our featured artist will be Cindy Nave. Light refreshments will be served.
URL:https://www.hopewellmuseum.org/event/spring-artwalk/
LOCATION:Hopewell Museum
END:VEVENT
BEGIN:VEVENT
DTSTART;TZID=America/New_York:20240426T183000
DTEND;TZID=America/New_York:20240426T193000
DTSTAMP:20260421T213322
CREATED:20240227T223310Z
LAST-MODIFIED:20240227T223310Z
UID:5196-1714156200-1714159800@www.hopewellmuseum.org
SUMMARY:Free Jazz Lecture
DESCRIPTION:As an opening for the Bill Coleman Jazz Weekend\, come join us for a jazz lecture at Hopewell Museum on Friday\, April 26th from 6:30 p.m. until 7:30 p.m. This event is free and open to the public.
URL:https://www.hopewellmuseum.org/event/free-jazz-lecture/
LOCATION:Hopewell Museum
END:VEVENT
BEGIN:VEVENT
DTSTART;TZID=America/New_York:20240427T183000
DTEND;TZID=America/New_York:20240427T220000
DTSTAMP:20260421T213322
CREATED:20240227T223818Z
LAST-MODIFIED:20240424T145724Z
UID:5198-1714242600-1714255200@www.hopewellmuseum.org
SUMMARY:Live Jazz by the Walnut Street Ramblers
DESCRIPTION:On Saturday\, April 27th\, join us for an evening of live jazz by the Walnut Street Ramblers featuring vocalist La’Shelle Allen\, dinner & libations\, silent and live auctions at Oasis on Main Street from 6:30 p.m. to 10 p.m. \nOnline RSVP is now closed.
URL:https://www.hopewellmuseum.org/event/live-jazz-by-the-walnut-street-ramblers/
LOCATION:Oasis\, 610 Main Street\, KY\, 40361\, United States
END:VEVENT
BEGIN:VEVENT
DTSTART;TZID=America/New_York:20240428T140000
DTEND;TZID=America/New_York:20240428T160000
DTSTAMP:20260421T213322
CREATED:20240227T232706Z
LAST-MODIFIED:20240420T162105Z
UID:5221-1714312800-1714320000@www.hopewellmuseum.org
SUMMARY:Free Live Jazz Concert
DESCRIPTION:Come enjoy a free live jazz concert featuring the Keith McCutchen Quintet.
URL:https://www.hopewellmuseum.org/event/free-live-jazz-concert/
LOCATION:Bourbon County High School Fryman Auditorium\, 3343 Lexington Road\, Paris\, KY\, 40361\, United States
END:VEVENT
END:VCALENDAR