BEGIN:VCALENDAR
VERSION:2.0
PRODID:-//Hopewell Museum - ECPv6.15.17.1//NONSGML v1.0//EN
CALSCALE:GREGORIAN
METHOD:PUBLISH
X-WR-CALNAME:Hopewell Museum
X-ORIGINAL-URL:https://www.hopewellmuseum.org
X-WR-CALDESC:Events for Hopewell Museum
REFRESH-INTERVAL;VALUE=DURATION:PT1H
X-Robots-Tag:noindex
X-PUBLISHED-TTL:PT1H
BEGIN:VTIMEZONE
TZID:America/New_York
BEGIN:DAYLIGHT
TZOFFSETFROM:-0500
TZOFFSETTO:-0400
TZNAME:EDT
DTSTART:20230312T070000
END:DAYLIGHT
BEGIN:STANDARD
TZOFFSETFROM:-0400
TZOFFSETTO:-0500
TZNAME:EST
DTSTART:20231105T060000
END:STANDARD
BEGIN:DAYLIGHT
TZOFFSETFROM:-0500
TZOFFSETTO:-0400
TZNAME:EDT
DTSTART:20240310T070000
END:DAYLIGHT
BEGIN:STANDARD
TZOFFSETFROM:-0400
TZOFFSETTO:-0500
TZNAME:EST
DTSTART:20241103T060000
END:STANDARD
BEGIN:DAYLIGHT
TZOFFSETFROM:-0500
TZOFFSETTO:-0400
TZNAME:EDT
DTSTART:20250309T070000
END:DAYLIGHT
BEGIN:STANDARD
TZOFFSETFROM:-0400
TZOFFSETTO:-0500
TZNAME:EST
DTSTART:20251102T060000
END:STANDARD
END:VTIMEZONE
BEGIN:VEVENT
DTSTART;TZID=America/New_York:20241103T140000
DTEND;TZID=America/New_York:20241103T170000
DTSTAMP:20260421T112037
CREATED:20241007T174147Z
LAST-MODIFIED:20241007T174147Z
UID:5296-1730642400-1730653200@www.hopewellmuseum.org
SUMMARY:Fall Open House: Lan Mark Farm
DESCRIPTION:Join us for our fall open house at Lan Mark Farm on Sunday\, November 3rd from 2 p.m. to 5 p.m. The ticket price includes a tour of the 1820 house along with the opportunity to tour the fiber mill. Light refreshments will be served. Tickets are $20 each. The property’s address is 121 Sharpsburg Road\, Sharpsburg\, KY 40374. Get your tickets online today by completing the RSVP form below.  \nRSVP Online\n\n\n                					\n						Δ\n						\n						\n\n					\n                        Customer InformationName*\n                            \n                            \n                                                    \n                                                    First\n                                                \n                            \n                            \n                                                    \n                                                    Last\n                                                \n                            \n                        Address*    \n                    \n                         \n                                        \n                                        Street Address\n                                    \n                                        \n                                        Address Line 2\n                                    \n                                    \n                                    City\n                                 \n                                        \n                                        State / Province / Region\n                                      \n                                    \n                                    ZIP / Postal Code\n                                \n                    \n                Email*\n                            \n                        Phone*RSVP Option(s)Tickets Quantity\n					\n					\n						Price:\n						$20.00\n					\n					\n					 Quantity \n				Total\n							$0.00\n							\n						Credit CardCard Details\n					\n					Cardholder Name\n				\n			Comments
URL:https://www.hopewellmuseum.org/event/fall-open-house-lan-mark-farm/
LOCATION:Lan Mark Farm\, 121 Sharpsburg Road\, Sharpsburg\, KY\, 40374\, United States
END:VEVENT
BEGIN:VEVENT
DTSTART;TZID=America/New_York:20241114T180000
DTEND;TZID=America/New_York:20241114T200000
DTSTAMP:20260421T112037
CREATED:20240227T224523Z
LAST-MODIFIED:20240227T224523Z
UID:5211-1731607200-1731614400@www.hopewellmuseum.org
SUMMARY:Annual Membership Meeting and Soup Supper
DESCRIPTION:
URL:https://www.hopewellmuseum.org/event/annual-membership-meeting-and-soup-supper-2/
LOCATION:Hopewell Museum
END:VEVENT
END:VCALENDAR