BEGIN:VCALENDAR
VERSION:2.0
PRODID:-//Hopewell Museum - ECPv6.15.17.1//NONSGML v1.0//EN
CALSCALE:GREGORIAN
METHOD:PUBLISH
X-ORIGINAL-URL:https://www.hopewellmuseum.org
X-WR-CALDESC:Events for Hopewell Museum
REFRESH-INTERVAL;VALUE=DURATION:PT1H
X-Robots-Tag:noindex
X-PUBLISHED-TTL:PT1H
BEGIN:VTIMEZONE
TZID:America/New_York
BEGIN:DAYLIGHT
TZOFFSETFROM:-0500
TZOFFSETTO:-0400
TZNAME:EDT
DTSTART:20230312T070000
END:DAYLIGHT
BEGIN:STANDARD
TZOFFSETFROM:-0400
TZOFFSETTO:-0500
TZNAME:EST
DTSTART:20231105T060000
END:STANDARD
BEGIN:DAYLIGHT
TZOFFSETFROM:-0500
TZOFFSETTO:-0400
TZNAME:EDT
DTSTART:20240310T070000
END:DAYLIGHT
BEGIN:STANDARD
TZOFFSETFROM:-0400
TZOFFSETTO:-0500
TZNAME:EST
DTSTART:20241103T060000
END:STANDARD
BEGIN:DAYLIGHT
TZOFFSETFROM:-0500
TZOFFSETTO:-0400
TZNAME:EDT
DTSTART:20250309T070000
END:DAYLIGHT
BEGIN:STANDARD
TZOFFSETFROM:-0400
TZOFFSETTO:-0500
TZNAME:EST
DTSTART:20251102T060000
END:STANDARD
END:VTIMEZONE
BEGIN:VEVENT
DTSTART;TZID=America/New_York:20241208T133000
DTEND;TZID=America/New_York:20241208T160000
DTSTAMP:20260421T100221
CREATED:20241118T181834Z
LAST-MODIFIED:20241118T181859Z
UID:5312-1733664600-1733673600@www.hopewellmuseum.org
SUMMARY:Cookies with Santa
DESCRIPTION:Come join us for Cookies with Santa at the Hopewell Museum on Sunday\, December 8th from 2 p.m. to 4 p.m. for the general public\, 1:30 p.m. to 2 p.m. for those with special needs. This event is free and includes photos with Santa\, refreshments\, and a craft.
URL:https://www.hopewellmuseum.org/event/cookies-with-santa/
LOCATION:Hopewell Museum
END:VEVENT
BEGIN:VEVENT
DTSTART;TZID=America/New_York:20241220T180000
DTEND;TZID=America/New_York:20241220T210000
DTSTAMP:20260421T100221
CREATED:20240227T224604Z
LAST-MODIFIED:20241219T161138Z
UID:5213-1734717600-1734728400@www.hopewellmuseum.org
SUMMARY:Hopewell Museum Holiday Party at Woodlawn
DESCRIPTION:Join us Friday\, December 20th for the Hopewell Museum Holiday Party at Woodlawn (1515 Peacock Road in Paris). Come spend an evening of holiday music with spirits and hors d’oeuvres at historic Woodlawn. Festive attire is suggested. The party starts at 6 p.m. Tickets are $50 per person. This event is for adults 21 and above. Purchase tickets online below. You also can pay by credit card over the phone at 859-987-7274 or in person at Hopewell Museum. All proceeds benefit Hopewell Museum’s programs. \nOnline RSVP is now closed.
URL:https://www.hopewellmuseum.org/event/holiday-party/
LOCATION:Woodlawn\, 1515 Peacock Road\, Paris\, KY\, 40361\, United States
END:VEVENT
END:VCALENDAR