BEGIN:VCALENDAR
VERSION:2.0
PRODID:-//Hopewell Museum - ECPv6.15.17.1//NONSGML v1.0//EN
CALSCALE:GREGORIAN
METHOD:PUBLISH
X-WR-CALNAME:Hopewell Museum
X-ORIGINAL-URL:https://www.hopewellmuseum.org
X-WR-CALDESC:Events for Hopewell Museum
REFRESH-INTERVAL;VALUE=DURATION:PT1H
X-Robots-Tag:noindex
X-PUBLISHED-TTL:PT1H
BEGIN:VTIMEZONE
TZID:America/New_York
BEGIN:DAYLIGHT
TZOFFSETFROM:-0500
TZOFFSETTO:-0400
TZNAME:EDT
DTSTART:20240310T070000
END:DAYLIGHT
BEGIN:STANDARD
TZOFFSETFROM:-0400
TZOFFSETTO:-0500
TZNAME:EST
DTSTART:20241103T060000
END:STANDARD
BEGIN:DAYLIGHT
TZOFFSETFROM:-0500
TZOFFSETTO:-0400
TZNAME:EDT
DTSTART:20250309T070000
END:DAYLIGHT
BEGIN:STANDARD
TZOFFSETFROM:-0400
TZOFFSETTO:-0500
TZNAME:EST
DTSTART:20251102T060000
END:STANDARD
BEGIN:DAYLIGHT
TZOFFSETFROM:-0500
TZOFFSETTO:-0400
TZNAME:EDT
DTSTART:20260308T070000
END:DAYLIGHT
BEGIN:STANDARD
TZOFFSETFROM:-0400
TZOFFSETTO:-0500
TZNAME:EST
DTSTART:20261101T060000
END:STANDARD
END:VTIMEZONE
BEGIN:VEVENT
DTSTART;TZID=America/New_York:20250201T100000
DTEND;TZID=America/New_York:20250201T120000
DTSTAMP:20260421T070106
CREATED:20250203T213647Z
LAST-MODIFIED:20250203T213647Z
UID:5336-1738404000-1738411200@www.hopewellmuseum.org
SUMMARY:Docent Training & Brunch
DESCRIPTION:
URL:https://www.hopewellmuseum.org/event/docent-training-brunch/
LOCATION:Hopewell Museum
END:VEVENT
BEGIN:VEVENT
DTSTART;TZID=America/New_York:20250205T120000
DTEND;TZID=America/New_York:20250205T170000
DTSTAMP:20260421T070106
CREATED:20250203T213725Z
LAST-MODIFIED:20250203T213725Z
UID:5338-1738756800-1738774800@www.hopewellmuseum.org
SUMMARY:Museum re-opens to the public
DESCRIPTION:
URL:https://www.hopewellmuseum.org/event/museum-re-opens-to-the-public/
LOCATION:Hopewell Museum
END:VEVENT
BEGIN:VEVENT
DTSTART;TZID=America/New_York:20250208T120000
DTEND;TZID=America/New_York:20250208T170000
DTSTAMP:20260421T070106
CREATED:20250203T213930Z
LAST-MODIFIED:20250203T213930Z
UID:5340-1739016000-1739034000@www.hopewellmuseum.org
SUMMARY:Exhibit Opening: One Stitch After Another
DESCRIPTION:Join us for the opening of “One Stitch After Another\,” a Bourbon County Quilt Exhibit from noon to five. We will be serving cookies and drinks. Admission is free.
URL:https://www.hopewellmuseum.org/event/exhibit-opening-one-stitch-after-another/
LOCATION:Hopewell Museum
END:VEVENT
BEGIN:VEVENT
DTSTART;TZID=America/New_York:20250215T140000
DTEND;TZID=America/New_York:20250215T160000
DTSTAMP:20260421T070106
CREATED:20250203T214227Z
LAST-MODIFIED:20250203T214227Z
UID:5342-1739628000-1739635200@www.hopewellmuseum.org
SUMMARY:Keeneland’s Heart of the Turf: Racing’s Black Pioneers
DESCRIPTION:Join us for our Black History Month featured talk “Keeneland’s Heart of the Turf: Racing’s Black Pioneers” at 2 p.m. on Saturday\, February 15th. We will be serving cookies and drinks. This event is free and open to the public.
URL:https://www.hopewellmuseum.org/event/keenelands-heart-of-the-turf-racings-black-pioneers/
LOCATION:Hopewell Museum
END:VEVENT
END:VCALENDAR