BEGIN:VCALENDAR
VERSION:2.0
PRODID:-//Hopewell Museum - ECPv6.15.17.1//NONSGML v1.0//EN
CALSCALE:GREGORIAN
METHOD:PUBLISH
X-WR-CALNAME:Hopewell Museum
X-ORIGINAL-URL:https://www.hopewellmuseum.org
X-WR-CALDESC:Events for Hopewell Museum
REFRESH-INTERVAL;VALUE=DURATION:PT1H
X-Robots-Tag:noindex
X-PUBLISHED-TTL:PT1H
BEGIN:VTIMEZONE
TZID:America/New_York
BEGIN:DAYLIGHT
TZOFFSETFROM:-0500
TZOFFSETTO:-0400
TZNAME:EDT
DTSTART:20240310T070000
END:DAYLIGHT
BEGIN:STANDARD
TZOFFSETFROM:-0400
TZOFFSETTO:-0500
TZNAME:EST
DTSTART:20241103T060000
END:STANDARD
BEGIN:DAYLIGHT
TZOFFSETFROM:-0500
TZOFFSETTO:-0400
TZNAME:EDT
DTSTART:20250309T070000
END:DAYLIGHT
BEGIN:STANDARD
TZOFFSETFROM:-0400
TZOFFSETTO:-0500
TZNAME:EST
DTSTART:20251102T060000
END:STANDARD
BEGIN:DAYLIGHT
TZOFFSETFROM:-0500
TZOFFSETTO:-0400
TZNAME:EDT
DTSTART:20260308T070000
END:DAYLIGHT
BEGIN:STANDARD
TZOFFSETFROM:-0400
TZOFFSETTO:-0500
TZNAME:EST
DTSTART:20261101T060000
END:STANDARD
END:VTIMEZONE
BEGIN:VEVENT
DTSTART;TZID=America/New_York:20250322T140000
DTEND;TZID=America/New_York:20250322T160000
DTSTAMP:20260421T053716
CREATED:20250203T214400Z
LAST-MODIFIED:20250224T190824Z
UID:5344-1742652000-1742659200@www.hopewellmuseum.org
SUMMARY:Mary Breckinridge "Call the Midwife"
DESCRIPTION:In celebration of Women’s History Month\, Hopewell Museum in conjuction with Kentucky Humanities presents Chautauqua performer Janet Scott as she portrays Mary Caron Breckinridge in Call the Midwife on March 22nd at 2 p.m. at Hopewell Museum. This event is free and open to the public.  \n1881-1965\nScript by Janet Scott with Bo List \nMary Carson Breckinridge founded the world-famous Frontier Nursing Service\, establishing a team of trained nurse-midwives. Often referred to as “Angels on Horseback\,” they risked their lives daily to deliver babies and provide public healthcare in the remote mountains of eastern Kentucky beginning in the 1920s. Mary recognized the need for accessible healthcare for all Americans and through years of training\, heartbreak\, triumphs\, and hardships she was successful in proving that if the needs of children in the most rural regions could be met\, entire families could thrive anywhere in the world. An internationalist and visionary in the field of public healthcare\, Mary went on to establish the Frontier Nursing University\, which currently educates public health practitioners who have built upon Mary’s vision and carried the work of the Frontier Nursing Service around the world. The story of Mary’s courage and triumph over tragedy are an inspiration for empathy and compassion in our world today.
URL:https://www.hopewellmuseum.org/event/mary-breckinridge-call-the-midwife/
LOCATION:Hopewell Museum
END:VEVENT
END:VCALENDAR